BEGIN:VCALENDAR
VERSION:1.0
BEGIN:VEVENT
DTSTART:20250909T183000
DTEND:20250909T193000
SUMMARY:Practice: Ravens
DESCRIPTION:Seniors Practice Schedule - Town and Country Sports
LOCATION:TC Field 2
CATEGORIES:QuickScores; Flag Football Game
TRANSP:0
DALARM:20250909T163000;PT10M;2;Practice: Ravens
END:VEVENT
BEGIN:VEVENT
DTSTART:20250916T183000
DTEND:20250916T193000
SUMMARY:Practice: Ravens
DESCRIPTION:Seniors Practice Schedule - Town and Country Sports
LOCATION:TC Field 2
CATEGORIES:QuickScores; Flag Football Game
TRANSP:0
DALARM:20250916T163000;PT10M;2;Practice: Ravens
END:VEVENT
BEGIN:VEVENT
DTSTART:20250923T183000
DTEND:20250923T193000
SUMMARY:Practice: Ravens
DESCRIPTION:Seniors Practice Schedule - Town and Country Sports
LOCATION:TC Field 2
CATEGORIES:QuickScores; Flag Football Game
TRANSP:0
DALARM:20250923T163000;PT10M;2;Practice: Ravens
END:VEVENT
BEGIN:VEVENT
DTSTART:20250930T183000
DTEND:20250930T193000
SUMMARY:Practice: Ravens
DESCRIPTION:Seniors Practice Schedule - Town and Country Sports
LOCATION:TC Field 2
CATEGORIES:QuickScores; Flag Football Game
TRANSP:0
DALARM:20250930T163000;PT10M;2;Practice: Ravens
END:VEVENT
BEGIN:VEVENT
DTSTART:20251007T183000
DTEND:20251007T193000
SUMMARY:Practice: Ravens
DESCRIPTION:Seniors Practice Schedule - Town and Country Sports
LOCATION:TC Field 2
CATEGORIES:QuickScores; Flag Football Game
TRANSP:0
DALARM:20251007T163000;PT10M;2;Practice: Ravens
END:VEVENT
BEGIN:VEVENT
DTSTART:20251014T183000
DTEND:20251014T193000
SUMMARY:Practice: Ravens
DESCRIPTION:Seniors Practice Schedule - Town and Country Sports
LOCATION:TC Field 2
CATEGORIES:QuickScores; Flag Football Game
TRANSP:0
DALARM:20251014T163000;PT10M;2;Practice: Ravens
END:VEVENT
BEGIN:VEVENT
DTSTART:20251021T183000
DTEND:20251021T193000
SUMMARY:Practice: Ravens
DESCRIPTION:Seniors Practice Schedule - Town and Country Sports
LOCATION:TC Field 2
CATEGORIES:QuickScores; Flag Football Game
TRANSP:0
DALARM:20251021T163000;PT10M;2;Practice: Ravens
END:VEVENT
BEGIN:VEVENT
DTSTART:20251028T183000
DTEND:20251028T193000
SUMMARY:Practice: Ravens
DESCRIPTION:Seniors Practice Schedule - Town and Country Sports
LOCATION:TC Field 2
CATEGORIES:QuickScores; Flag Football Game
TRANSP:0
DALARM:20251028T163000;PT10M;2;Practice: Ravens
END:VEVENT
END:VCALENDAR
