BEGIN:VCALENDAR
VERSION:1.0
BEGIN:VEVENT
DTSTART:20250909T173000
DTEND:20250909T183000
SUMMARY:Practice: Bengals
DESCRIPTION:Seniors Practice Schedule - Town and Country Sports
LOCATION:TC Field 2
CATEGORIES:QuickScores; Flag Football Game
TRANSP:0
DALARM:20250909T153000;PT10M;2;Practice: Bengals
END:VEVENT
BEGIN:VEVENT
DTSTART:20250916T173000
DTEND:20250916T183000
SUMMARY:Practice: Bengals
DESCRIPTION:Seniors Practice Schedule - Town and Country Sports
LOCATION:TC Field 2
CATEGORIES:QuickScores; Flag Football Game
TRANSP:0
DALARM:20250916T153000;PT10M;2;Practice: Bengals
END:VEVENT
BEGIN:VEVENT
DTSTART:20250923T173000
DTEND:20250923T183000
SUMMARY:Practice: Bengals
DESCRIPTION:Seniors Practice Schedule - Town and Country Sports
LOCATION:TC Field 2
CATEGORIES:QuickScores; Flag Football Game
TRANSP:0
DALARM:20250923T153000;PT10M;2;Practice: Bengals
END:VEVENT
BEGIN:VEVENT
DTSTART:20250930T173000
DTEND:20250930T183000
SUMMARY:Practice: Bengals
DESCRIPTION:Seniors Practice Schedule - Town and Country Sports
LOCATION:TC Field 2
CATEGORIES:QuickScores; Flag Football Game
TRANSP:0
DALARM:20250930T153000;PT10M;2;Practice: Bengals
END:VEVENT
BEGIN:VEVENT
DTSTART:20251007T173000
DTEND:20251007T183000
SUMMARY:Practice: Bengals
DESCRIPTION:Seniors Practice Schedule - Town and Country Sports
LOCATION:TC Field 2
CATEGORIES:QuickScores; Flag Football Game
TRANSP:0
DALARM:20251007T153000;PT10M;2;Practice: Bengals
END:VEVENT
BEGIN:VEVENT
DTSTART:20251014T173000
DTEND:20251014T183000
SUMMARY:Practice: Bengals
DESCRIPTION:Seniors Practice Schedule - Town and Country Sports
LOCATION:TC Field 2
CATEGORIES:QuickScores; Flag Football Game
TRANSP:0
DALARM:20251014T153000;PT10M;2;Practice: Bengals
END:VEVENT
BEGIN:VEVENT
DTSTART:20251021T173000
DTEND:20251021T183000
SUMMARY:Practice: Bengals
DESCRIPTION:Seniors Practice Schedule - Town and Country Sports
LOCATION:TC Field 2
CATEGORIES:QuickScores; Flag Football Game
TRANSP:0
DALARM:20251021T153000;PT10M;2;Practice: Bengals
END:VEVENT
BEGIN:VEVENT
DTSTART:20251028T173000
DTEND:20251028T183000
SUMMARY:Practice: Bengals
DESCRIPTION:Seniors Practice Schedule - Town and Country Sports
LOCATION:TC Field 2
CATEGORIES:QuickScores; Flag Football Game
TRANSP:0
DALARM:20251028T153000;PT10M;2;Practice: Bengals
END:VEVENT
END:VCALENDAR
