BEGIN:VCALENDAR
VERSION:1.0
BEGIN:VEVENT
DTSTART:20260328T141500
DTEND:20260328T150000
SUMMARY:Falcons - Irons vs. Warriors Gold - Olson
DESCRIPTION:7th Grade - SUN Youth Football League
LOCATION:F3 Mesquite Sports Complex
CATEGORIES:QuickScores; Football Game
TRANSP:0
DALARM:20260328T121500;PT10M;2;Falcons - Irons vs. Warriors Gold - Olson
END:VEVENT
BEGIN:VEVENT
DTSTART:20260328T150000
DTEND:20260328T154500
SUMMARY:Thunder White - White vs. Warriors Gold - Olson
DESCRIPTION:7th Grade - SUN Youth Football League
LOCATION:F3 Mesquite Sports Complex
CATEGORIES:QuickScores; Football Game
TRANSP:0
DALARM:20260328T130000;PT10M;2;Thunder White - White vs. Warriors Gold - Olson
END:VEVENT
BEGIN:VEVENT
DTSTART:20260411T133000
DTEND:20260411T141500
SUMMARY:Warriors Gold - Olson vs. Bulldogs - Isidro
DESCRIPTION:7th Grade - SUN Youth Football League
LOCATION:Sandstone F1
CATEGORIES:QuickScores; Football Game
TRANSP:0
DALARM:20260411T113000;PT10M;2;Warriors Gold - Olson vs. Bulldogs - Isidro
END:VEVENT
BEGIN:VEVENT
DTSTART:20260411T150000
DTEND:20260411T154500
SUMMARY:Warriors Gold - Olson vs. Panthers - Ott
DESCRIPTION:7th Grade - SUN Youth Football League
LOCATION:Sandstone F1
CATEGORIES:QuickScores; Football Game
TRANSP:0
DALARM:20260411T130000;PT10M;2;Warriors Gold - Olson vs. Panthers - Ott
END:VEVENT
BEGIN:VEVENT
DTSTART:20260418T133000
DTEND:20260418T141500
SUMMARY:Warriors Gold - Olson vs. Warriors Green - McPhail
DESCRIPTION:7th Grade - SUN Youth Football League
LOCATION:Sandstone F1
CATEGORIES:QuickScores; Football Game
TRANSP:0
DALARM:20260418T113000;PT10M;2;Warriors Gold - Olson vs. Warriors Green - McPhail
END:VEVENT
BEGIN:VEVENT
DTSTART:20260418T150000
DTEND:20260418T154500
SUMMARY:Warriors Gold - Olson vs. Mustangs Red - Ence
DESCRIPTION:7th Grade - SUN Youth Football League
LOCATION:Sandstone F1
CATEGORIES:QuickScores; Football Game
TRANSP:0
DALARM:20260418T130000;PT10M;2;Warriors Gold - Olson vs. Mustangs Red - Ence
END:VEVENT
BEGIN:VEVENT
DTSTART:20260425T141500
DTEND:20260425T150000
SUMMARY:Reds Gold - Elliott vs. Warriors Gold - Olson
DESCRIPTION:7th Grade - SUN Youth Football League
LOCATION:Sandstone F2
CATEGORIES:QuickScores; Football Game
TRANSP:0
DALARM:20260425T121500;PT10M;2;Reds Gold - Elliott vs. Warriors Gold - Olson
END:VEVENT
BEGIN:VEVENT
DTSTART:20260425T150000
DTEND:20260425T154500
SUMMARY:Warriors Gold - Olson vs. Mustangs White - Wiley
DESCRIPTION:7th Grade - SUN Youth Football League
LOCATION:Sandstone F1
CATEGORIES:QuickScores; Football Game
TRANSP:0
DALARM:20260425T130000;PT10M;2;Warriors Gold - Olson vs. Mustangs White - Wiley
END:VEVENT
BEGIN:VEVENT
DTSTART:20260502T124500
DTEND:20260502T133000
SUMMARY:Tigers - Wardle vs. Warriors Gold - Olson
DESCRIPTION:7th Grade - SUN Youth Football League
LOCATION:Sandstone F3
CATEGORIES:QuickScores; Football Game
TRANSP:0
DALARM:20260502T104500;PT10M;2;Tigers - Wardle vs. Warriors Gold - Olson
END:VEVENT
BEGIN:VEVENT
DTSTART:20260502T133000
DTEND:20260502T141500
SUMMARY:Mustangs Blue - Peterson vs. Warriors Gold - Olson
DESCRIPTION:7th Grade - SUN Youth Football League
LOCATION:Sandstone F2
CATEGORIES:QuickScores; Football Game
TRANSP:0
DALARM:20260502T113000;PT10M;2;Mustangs Blue - Peterson vs. Warriors Gold - Olson
END:VEVENT
END:VCALENDAR
