BEGIN:VCALENDAR
VERSION:1.0
BEGIN:VEVENT
DTSTART:20250118T150000
DTEND:20250118T160000
SUMMARY:Texas Tarheels vs. Dallas Starz
DESCRIPTION:14U Boys - St. Philip's Saints
LOCATION:Snyder Blue Court
CATEGORIES:QuickScores; Basketball - Youth Game
TRANSP:0
DALARM:20250118T130000;PT10M;2;Texas Tarheels vs. Dallas Starz
END:VEVENT
BEGIN:VEVENT
DTSTART:20250125T160000
DTEND:20250125T170000
SUMMARY:Lakers vs. Texas Tarheels
DESCRIPTION:14U Boys - St. Philip's Saints
LOCATION:Snyder Blue Court
CATEGORIES:QuickScores; Basketball - Youth Game
TRANSP:0
DALARM:20250125T140000;PT10M;2;Lakers vs. Texas Tarheels
END:VEVENT
BEGIN:VEVENT
DTSTART:20250201T150000
DTEND:20250201T160000
SUMMARY:Texas Tarheels vs. GOAT Elite
DESCRIPTION:14U Boys - St. Philip's Saints
LOCATION:Snyder Red Court
CATEGORIES:QuickScores; Basketball - Youth Game
TRANSP:0
DALARM:20250201T130000;PT10M;2;Texas Tarheels vs. GOAT Elite
END:VEVENT
BEGIN:VEVENT
DTSTART:20250208T160000
DTEND:20250208T170000
SUMMARY:Texas Tarheels vs. Saints
DESCRIPTION:14U Boys - St. Philip's Saints
LOCATION:Snyder Red Court
CATEGORIES:QuickScores; Basketball - Youth Game
TRANSP:0
DALARM:20250208T140000;PT10M;2;Texas Tarheels vs. Saints
END:VEVENT
BEGIN:VEVENT
DTSTART:20250215T160000
DTEND:20250215T170000
SUMMARY:Bengals vs. Texas Tarheels
DESCRIPTION:14U Boys - St. Philip's Saints
LOCATION:Snyder Blue Court
CATEGORIES:QuickScores; Basketball - Youth Game
TRANSP:0
DALARM:20250215T140000;PT10M;2;Bengals vs. Texas Tarheels
END:VEVENT
BEGIN:VEVENT
DTSTART:20250222T150000
DTEND:20250222T160000
SUMMARY:Dallas Starz vs. Texas Tarheels
DESCRIPTION:14U Boys - St. Philip's Saints
LOCATION:Snyder Red Court
CATEGORIES:QuickScores; Basketball - Youth Game
TRANSP:0
DALARM:20250222T130000;PT10M;2;Dallas Starz vs. Texas Tarheels
END:VEVENT
BEGIN:VEVENT
DTSTART:20250301T150000
DTEND:20250301T160000
SUMMARY:Texas Tarheels vs. Lakers
DESCRIPTION:14U Boys - St. Philip's Saints
LOCATION:Miller - Legacy Court
CATEGORIES:QuickScores; Basketball - Youth Game
TRANSP:0
DALARM:20250301T130000;PT10M;2;Texas Tarheels vs. Lakers
END:VEVENT
BEGIN:VEVENT
DTSTART:20250309T160000
DTEND:20250309T180000
SUMMARY:Tarheels vs. Saints
DESCRIPTION:14U Boys - St. Philip's Saints
LOCATION:Snyder Blue Court
CATEGORIES:QuickScores; Basketball - Youth Game
TRANSP:0
DALARM:20250309T150000;PT10M;2;Tarheels vs. Saints
END:VEVENT
END:VCALENDAR
