BEGIN:VCALENDAR
VERSION:1.0
BEGIN:VEVENT
DTSTART:20250118T160000
DTEND:20250118T170000
SUMMARY:Lakers vs. Bengals
DESCRIPTION:14U Boys - St. Philip's Saints
LOCATION:Snyder Red Court
CATEGORIES:QuickScores; Basketball - Youth Game
TRANSP:0
DALARM:20250118T140000;PT10M;2;Lakers vs. Bengals
END:VEVENT
BEGIN:VEVENT
DTSTART:20250125T130000
DTEND:20250125T140000
SUMMARY:GOAT Elite vs. Bengals
DESCRIPTION:14U Boys - St. Philip's Saints
LOCATION:Snyder Red Court
CATEGORIES:QuickScores; Basketball - Youth Game
TRANSP:0
DALARM:20250125T110000;PT10M;2;GOAT Elite vs. Bengals
END:VEVENT
BEGIN:VEVENT
DTSTART:20250201T160000
DTEND:20250201T170000
SUMMARY:Bengals vs. Saints
DESCRIPTION:14U Boys - St. Philip's Saints
LOCATION:Snyder Blue Court
CATEGORIES:QuickScores; Basketball - Youth Game
TRANSP:0
DALARM:20250201T140000;PT10M;2;Bengals vs. Saints
END:VEVENT
BEGIN:VEVENT
DTSTART:20250208T160000
DTEND:20250208T170000
SUMMARY:Dallas Starz vs. Bengals
DESCRIPTION:14U Boys - St. Philip's Saints
LOCATION:Miller - Legacy Court
CATEGORIES:QuickScores; Basketball - Youth Game
TRANSP:0
DALARM:20250208T140000;PT10M;2;Dallas Starz vs. Bengals
END:VEVENT
BEGIN:VEVENT
DTSTART:20250215T160000
DTEND:20250215T170000
SUMMARY:Bengals vs. Texas Tarheels
DESCRIPTION:14U Boys - St. Philip's Saints
LOCATION:Snyder Blue Court
CATEGORIES:QuickScores; Basketball - Youth Game
TRANSP:0
DALARM:20250215T140000;PT10M;2;Bengals vs. Texas Tarheels
END:VEVENT
BEGIN:VEVENT
DTSTART:20250222T150000
DTEND:20250222T160000
SUMMARY:Bengals vs. GOAT Elite
DESCRIPTION:14U Boys - St. Philip's Saints
LOCATION:Miller - Legacy Court
CATEGORIES:QuickScores; Basketball - Youth Game
TRANSP:0
DALARM:20250222T130000;PT10M;2;Bengals vs. GOAT Elite
END:VEVENT
BEGIN:VEVENT
DTSTART:20250301T160000
DTEND:20250301T170000
SUMMARY:Dallas Starz vs. Bengals
DESCRIPTION:14U Boys - St. Philip's Saints
LOCATION:Snyder Red Court
CATEGORIES:QuickScores; Basketball - Youth Game
TRANSP:0
DALARM:20250301T140000;PT10M;2;Dallas Starz vs. Bengals
END:VEVENT
BEGIN:VEVENT
DTSTART:20250309T150000
DTEND:20250309T170000
SUMMARY:Saints vs. Bengals
DESCRIPTION:14U Boys - St. Philip's Saints
LOCATION:Snyder Red Court
CATEGORIES:QuickScores; Basketball - Youth Game
TRANSP:0
DALARM:20250309T140000;PT10M;2;Saints vs. Bengals
END:VEVENT
END:VCALENDAR
