BEGIN:VCALENDAR
VERSION:1.0
BEGIN:VEVENT
DTSTART:20260411T100000
DTEND:20260411T110000
SUMMARY:Cubs vs. Orioles
DESCRIPTION:Opening Day --- Instructional League (3-4) - Stanton Parks & Rec - Online Scheduling
LOCATION:Stanton City Park - Instructional League Field
CATEGORIES:QuickScores; Baseball - Youth Game
TRANSP:0
DALARM:20260411T080000;PT10M;2;Cubs vs. Orioles
END:VEVENT
BEGIN:VEVENT
DTSTART:20260414T173000
DTEND:20260414T183000
SUMMARY:Red Sox vs. Orioles
DESCRIPTION:Instructional League (3-4) - Stanton Parks & Rec - Online Scheduling
LOCATION:Stanton City Park - Instructional League Field
CATEGORIES:QuickScores; Baseball - Youth Game
TRANSP:0
DALARM:20260414T153000;PT10M;2;Red Sox vs. Orioles
END:VEVENT
BEGIN:VEVENT
DTSTART:20260416T173000
DTEND:20260416T183000
SUMMARY:Orioles vs. Red Sox
DESCRIPTION:Instructional League (3-4) - Stanton Parks & Rec - Online Scheduling
LOCATION:Stanton City Park - Instructional League Field
CATEGORIES:QuickScores; Baseball - Youth Game
TRANSP:0
DALARM:20260416T153000;PT10M;2;Orioles vs. Red Sox
END:VEVENT
BEGIN:VEVENT
DTSTART:20260421T183000
DTEND:20260421T193000
SUMMARY:Orioles vs. Cubs
DESCRIPTION:Instructional League (3-4) - Stanton Parks & Rec - Online Scheduling
LOCATION:Stanton City Park - Instructional League Field
CATEGORIES:QuickScores; Baseball - Youth Game
TRANSP:0
DALARM:20260421T163000;PT10M;2;Orioles vs. Cubs
END:VEVENT
BEGIN:VEVENT
DTSTART:20260423T173000
DTEND:20260423T183000
SUMMARY:Orioles vs. Reds
DESCRIPTION:Instructional League (3-4) - Stanton Parks & Rec - Online Scheduling
LOCATION:Stanton City Park - Instructional League Field
CATEGORIES:QuickScores; Baseball - Youth Game
TRANSP:0
DALARM:20260423T153000;PT10M;2;Orioles vs. Reds
END:VEVENT
BEGIN:VEVENT
DTSTART:20260428T183000
DTEND:20260428T193000
SUMMARY:Cubs vs. Orioles
DESCRIPTION:Instructional League (3-4) - Stanton Parks & Rec - Online Scheduling
LOCATION:Stanton City Park - Instructional League Field
CATEGORIES:QuickScores; Baseball - Youth Game
TRANSP:0
DALARM:20260428T163000;PT10M;2;Cubs vs. Orioles
END:VEVENT
BEGIN:VEVENT
DTSTART:20260430T173000
DTEND:20260430T183000
SUMMARY:Reds vs. Orioles
DESCRIPTION:Instructional League (3-4) - Stanton Parks & Rec - Online Scheduling
LOCATION:Stanton City Park - Instructional League Field
CATEGORIES:QuickScores; Baseball - Youth Game
TRANSP:0
DALARM:20260430T153000;PT10M;2;Reds vs. Orioles
END:VEVENT
BEGIN:VEVENT
DTSTART:20260505T183000
DTEND:20260505T193000
SUMMARY:Cubs vs. Orioles
DESCRIPTION:Instructional League (3-4) - Stanton Parks & Rec - Online Scheduling
LOCATION:Stanton City Park - Instructional League Field
CATEGORIES:QuickScores; Baseball - Youth Game
TRANSP:0
DALARM:20260505T163000;PT10M;2;Cubs vs. Orioles
END:VEVENT
BEGIN:VEVENT
DTSTART:20260507T183000
DTEND:20260507T193000
SUMMARY:Orioles vs. Cubs
DESCRIPTION:Instructional League (3-4) - Stanton Parks & Rec - Online Scheduling
LOCATION:Stanton City Park - Instructional League Field
CATEGORIES:QuickScores; Baseball - Youth Game
TRANSP:0
DALARM:20260507T163000;PT10M;2;Orioles vs. Cubs
END:VEVENT
BEGIN:VEVENT
DTSTART:20260512T173000
DTEND:20260512T183000
SUMMARY:Orioles vs. Reds
DESCRIPTION:Instructional League (3-4) - Stanton Parks & Rec - Online Scheduling
LOCATION:Stanton City Park - Instructional League Field
CATEGORIES:QuickScores; Baseball - Youth Game
TRANSP:0
DALARM:20260512T153000;PT10M;2;Orioles vs. Reds
END:VEVENT
END:VCALENDAR
