BEGIN:VCALENDAR
VERSION:1.0
BEGIN:VEVENT
DTSTART:20250918T183000
DTEND:20250918T193000
SUMMARY:Past R Prime vs. Banging 3 s
DESCRIPTION:South Jordan Fitness & Aquatic Center Thursday - Salt Lake County - Sports Office
LOCATION:South Jordan Fitness & Aquatic Center Court 1
CATEGORIES:QuickScores; Basketball - Adult Game
TRANSP:0
DALARM:20250918T163000;PT10M;2;Past R Prime vs. Banging 3 s
END:VEVENT
BEGIN:VEVENT
DTSTART:20250925T193000
DTEND:20250925T203000
SUMMARY:Past R Prime vs. Wanna ball
DESCRIPTION:South Jordan Fitness & Aquatic Center Thursday - Salt Lake County - Sports Office
LOCATION:South Jordan Fitness & Aquatic Center Court 1
CATEGORIES:QuickScores; Basketball - Adult Game
TRANSP:0
DALARM:20250925T173000;PT10M;2;Past R Prime vs. Wanna ball
END:VEVENT
BEGIN:VEVENT
DTSTART:20251002T203000
DTEND:20251002T213000
SUMMARY:DPS vs. Past R Prime
DESCRIPTION:South Jordan Fitness & Aquatic Center Thursday - Salt Lake County - Sports Office
LOCATION:South Jordan Fitness & Aquatic Center Court 1
CATEGORIES:QuickScores; Basketball - Adult Game
TRANSP:0
DALARM:20251002T183000;PT10M;2;DPS vs. Past R Prime
END:VEVENT
BEGIN:VEVENT
DTSTART:20251009T193000
DTEND:20251009T203000
SUMMARY:Chillers vs. Past R Prime
DESCRIPTION:South Jordan Fitness & Aquatic Center Thursday - Salt Lake County - Sports Office
LOCATION:South Jordan Fitness & Aquatic Center Court 1
CATEGORIES:QuickScores; Basketball - Adult Game
TRANSP:0
DALARM:20251009T173000;PT10M;2;Chillers vs. Past R Prime
END:VEVENT
BEGIN:VEVENT
DTSTART:20251016T183000
DTEND:20251016T193000
SUMMARY:Past R Prime vs. All in On Black
DESCRIPTION:South Jordan Fitness & Aquatic Center Thursday - Salt Lake County - Sports Office
LOCATION:South Jordan Fitness & Aquatic Center Court 1
CATEGORIES:QuickScores; Basketball - Adult Game
TRANSP:0
DALARM:20251016T163000;PT10M;2;Past R Prime vs. All in On Black
END:VEVENT
BEGIN:VEVENT
DTSTART:20251023T203000
DTEND:20251023T213000
SUMMARY:Banging 3 s vs. Past R Prime
DESCRIPTION:South Jordan Fitness & Aquatic Center Thursday - Salt Lake County - Sports Office
LOCATION:South Jordan Fitness & Aquatic Center Court 1
CATEGORIES:QuickScores; Basketball - Adult Game
TRANSP:0
DALARM:20251023T183000;PT10M;2;Banging 3 s vs. Past R Prime
END:VEVENT
BEGIN:VEVENT
DTSTART:20251030T183000
DTEND:20251030T193000
SUMMARY:Wanna ball vs. Past R Prime
DESCRIPTION:South Jordan Fitness & Aquatic Center Thursday - Salt Lake County - Sports Office
LOCATION:South Jordan Fitness & Aquatic Center Court 1
CATEGORIES:QuickScores; Basketball - Adult Game
TRANSP:0
DALARM:20251030T163000;PT10M;2;Wanna ball vs. Past R Prime
END:VEVENT
END:VCALENDAR
