BEGIN:VCALENDAR
VERSION:1.0
BEGIN:VEVENT
DTSTART:20260328T130000
DTEND:20260328T140000
SUMMARY:Coach Melton - PCY vs. MTY - Team 2
DESCRIPTION:U15 (12-14 Year Olds) Middle Tyger AND Polk County YMCA Teams - YMCA of Greater Spartanburg
LOCATION:Stearns Gym
CATEGORIES:QuickScores; Volleyball - Youth Game
TRANSP:0
DALARM:20260328T110000;PT10M;2;Coach Melton - PCY vs. MTY - Team 2
END:VEVENT
BEGIN:VEVENT
DTSTART:20260411T100000
DTEND:20260411T110000
SUMMARY:Coach Melton - PCY vs. U15 Coach George
DESCRIPTION:U15 (12-14 Year Olds) Middle Tyger AND Polk County YMCA Teams - YMCA of Greater Spartanburg
LOCATION:Stearns Gym
CATEGORIES:QuickScores; Volleyball - Youth Game
TRANSP:0
DALARM:20260411T080000;PT10M;2;Coach Melton - PCY vs. U15 Coach George
END:VEVENT
BEGIN:VEVENT
DTSTART:20260418T110000
DTEND:20260418T120000
SUMMARY:Coach Melton - PCY vs. U15 Coach George
DESCRIPTION:U15 (12-14 Year Olds) Middle Tyger AND Polk County YMCA Teams - YMCA of Greater Spartanburg
LOCATION:Middle Tyger YMCA Gym - Court 2
CATEGORIES:QuickScores; Volleyball - Youth Game
TRANSP:0
DALARM:20260418T090000;PT10M;2;Coach Melton - PCY vs. U15 Coach George
END:VEVENT
BEGIN:VEVENT
DTSTART:20260418T120000
DTEND:20260418T130000
SUMMARY:Coach Melton - PCY vs. U15 Coach Vanderford
DESCRIPTION:U15 (12-14 Year Olds) Middle Tyger AND Polk County YMCA Teams - YMCA of Greater Spartanburg
LOCATION:Middle Tyger YMCA Gym - Court 2
CATEGORIES:QuickScores; Volleyball - Youth Game
TRANSP:0
DALARM:20260418T100000;PT10M;2;Coach Melton - PCY vs. U15 Coach Vanderford
END:VEVENT
BEGIN:VEVENT
DTSTART:20260425T120000
DTEND:20260425T130000
SUMMARY:U15 Coach George vs. Coach Melton - PCY
DESCRIPTION:U15 (12-14 Year Olds) Middle Tyger AND Polk County YMCA Teams - YMCA of Greater Spartanburg
LOCATION:Stearns Gym
CATEGORIES:QuickScores; Volleyball - Youth Game
TRANSP:0
DALARM:20260425T100000;PT10M;2;U15 Coach George vs. Coach Melton - PCY
END:VEVENT
END:VCALENDAR
