BEGIN:VCALENDAR
VERSION:1.0
BEGIN:VEVENT
DTSTART:20260312T173000
DTEND:20260312T183000
SUMMARY:Practice: U15 Coach George
DESCRIPTION:U15 (12-14 Year Olds) Middle Tyger AND Polk County YMCA Teams - YMCA of Greater Spartanburg
LOCATION:Middle Tyger YMCA Gym - Court 2
CATEGORIES:QuickScores; Volleyball - Youth Game
TRANSP:0
DALARM:20260312T153000;PT10M;2;Practice: U15 Coach George
END:VEVENT
BEGIN:VEVENT
DTSTART:20260319T173000
DTEND:20260319T183000
SUMMARY:Practice: U15 Coach George
DESCRIPTION:U15 (12-14 Year Olds) Middle Tyger AND Polk County YMCA Teams - YMCA of Greater Spartanburg
LOCATION:Middle Tyger YMCA Gym - Court 2
CATEGORIES:QuickScores; Volleyball - Youth Game
TRANSP:0
DALARM:20260319T153000;PT10M;2;Practice: U15 Coach George
END:VEVENT
BEGIN:VEVENT
DTSTART:20260321T100000
DTEND:20260321T110000
SUMMARY:U15 Coach George vs. MTY - Team 2
DESCRIPTION:U15 (12-14 Year Olds) Middle Tyger AND Polk County YMCA Teams - YMCA of Greater Spartanburg
LOCATION:Middle Tyger YMCA Gym - Court 2
CATEGORIES:QuickScores; Volleyball - Youth Game
TRANSP:0
DALARM:20260321T080000;PT10M;2;U15 Coach George vs. MTY - Team 2
END:VEVENT
BEGIN:VEVENT
DTSTART:20260326T173000
DTEND:20260326T183000
SUMMARY:Practice: U15 Coach George
DESCRIPTION:U15 (12-14 Year Olds) Middle Tyger AND Polk County YMCA Teams - YMCA of Greater Spartanburg
LOCATION:Middle Tyger YMCA Gym - Court 2
CATEGORIES:QuickScores; Volleyball - Youth Game
TRANSP:0
DALARM:20260326T153000;PT10M;2;Practice: U15 Coach George
END:VEVENT
BEGIN:VEVENT
DTSTART:20260328T130000
DTEND:20260328T140000
SUMMARY:U15 Coach Vanderford vs. U15 Coach George
DESCRIPTION:U15 (12-14 Year Olds) Middle Tyger AND Polk County YMCA Teams - YMCA of Greater Spartanburg
LOCATION:Thomas E. Hannah YMCA - Court 1
CATEGORIES:QuickScores; Volleyball - Youth Game
TRANSP:0
DALARM:20260328T110000;PT10M;2;U15 Coach Vanderford vs. U15 Coach George
END:VEVENT
BEGIN:VEVENT
DTSTART:20260402T173000
DTEND:20260402T183000
SUMMARY:Practice: U15 Coach George
DESCRIPTION:U15 (12-14 Year Olds) Middle Tyger AND Polk County YMCA Teams - YMCA of Greater Spartanburg
LOCATION:Middle Tyger YMCA Gym - Court 2
CATEGORIES:QuickScores; Volleyball - Youth Game
TRANSP:0
DALARM:20260402T153000;PT10M;2;Practice: U15 Coach George
END:VEVENT
BEGIN:VEVENT
DTSTART:20260411T100000
DTEND:20260411T110000
SUMMARY:Coach Melton - PCY vs. U15 Coach George
DESCRIPTION:U15 (12-14 Year Olds) Middle Tyger AND Polk County YMCA Teams - YMCA of Greater Spartanburg
LOCATION:Stearns Gym
CATEGORIES:QuickScores; Volleyball - Youth Game
TRANSP:0
DALARM:20260411T080000;PT10M;2;Coach Melton - PCY vs. U15 Coach George
END:VEVENT
BEGIN:VEVENT
DTSTART:20260416T173000
DTEND:20260416T183000
SUMMARY:Practice: U15 Coach George
DESCRIPTION:U15 (12-14 Year Olds) Middle Tyger AND Polk County YMCA Teams - YMCA of Greater Spartanburg
LOCATION:Middle Tyger YMCA Gym - Court 2
CATEGORIES:QuickScores; Volleyball - Youth Game
TRANSP:0
DALARM:20260416T153000;PT10M;2;Practice: U15 Coach George
END:VEVENT
BEGIN:VEVENT
DTSTART:20260418T110000
DTEND:20260418T120000
SUMMARY:Coach Melton - PCY vs. U15 Coach George
DESCRIPTION:U15 (12-14 Year Olds) Middle Tyger AND Polk County YMCA Teams - YMCA of Greater Spartanburg
LOCATION:Middle Tyger YMCA Gym - Court 2
CATEGORIES:QuickScores; Volleyball - Youth Game
TRANSP:0
DALARM:20260418T090000;PT10M;2;Coach Melton - PCY vs. U15 Coach George
END:VEVENT
BEGIN:VEVENT
DTSTART:20260423T173000
DTEND:20260423T183000
SUMMARY:Practice: U15 Coach George
DESCRIPTION:U15 (12-14 Year Olds) Middle Tyger AND Polk County YMCA Teams - YMCA of Greater Spartanburg
LOCATION:Middle Tyger YMCA Gym - Court 2
CATEGORIES:QuickScores; Volleyball - Youth Game
TRANSP:0
DALARM:20260423T153000;PT10M;2;Practice: U15 Coach George
END:VEVENT
BEGIN:VEVENT
DTSTART:20260425T150000
DTEND:20260425T160000
SUMMARY:U15 Coach George vs. Coach Melton - PCY
DESCRIPTION:U15 (12-14 Year Olds) Middle Tyger AND Polk County YMCA Teams - YMCA of Greater Spartanburg
LOCATION:Thomas E. Hannah YMCA - Court 1
CATEGORIES:QuickScores; Volleyball - Youth Game
TRANSP:0
DALARM:20260425T130000;PT10M;2;U15 Coach George vs. Coach Melton - PCY
END:VEVENT
BEGIN:VEVENT
DTSTART:20260430T173000
DTEND:20260430T183000
SUMMARY:Practice: U15 Coach George
DESCRIPTION:U15 (12-14 Year Olds) Middle Tyger AND Polk County YMCA Teams - YMCA of Greater Spartanburg
LOCATION:Middle Tyger YMCA Gym - Court 2
CATEGORIES:QuickScores; Volleyball - Youth Game
TRANSP:0
DALARM:20260430T153000;PT10M;2;Practice: U15 Coach George
END:VEVENT
BEGIN:VEVENT
DTSTART:20260507T173000
DTEND:20260507T183000
SUMMARY:Practice: U15 Coach George
DESCRIPTION:U15 (12-14 Year Olds) Middle Tyger AND Polk County YMCA Teams - YMCA of Greater Spartanburg
LOCATION:Middle Tyger YMCA Gym - Court 2
CATEGORIES:QuickScores; Volleyball - Youth Game
TRANSP:0
DALARM:20260507T153000;PT10M;2;Practice: U15 Coach George
END:VEVENT
END:VCALENDAR
