BEGIN:VCALENDAR
VERSION:1.0
BEGIN:VEVENT
DTSTART:20250805T201500
DTEND:20250805T210000
SUMMARY:Scared Hitless vs. Grab N Go Tools
DESCRIPTION:Tuesday Men's League - Smithfield Recreation
LOCATION:East Softball Field
CATEGORIES:QuickScores; Softball - Adult Game
TRANSP:0
DALARM:20250805T181500;PT10M;2;Scared Hitless vs. Grab N Go Tools
END:VEVENT
BEGIN:VEVENT
DTSTART:20250805T210000
DTEND:20250805T214500
SUMMARY:Bomb Squad vs. Grab N Go Tools
DESCRIPTION:Tuesday Men's League - Smithfield Recreation
LOCATION:East Softball Field
CATEGORIES:QuickScores; Softball - Adult Game
TRANSP:0
DALARM:20250805T190000;PT10M;2;Bomb Squad vs. Grab N Go Tools
END:VEVENT
BEGIN:VEVENT
DTSTART:20250812T184500
DTEND:20250812T193000
SUMMARY:Skeeters vs. Grab N Go Tools
DESCRIPTION:Tuesday Men's League - Smithfield Recreation
LOCATION:East Softball Field
CATEGORIES:QuickScores; Softball - Adult Game
TRANSP:0
DALARM:20250812T164500;PT10M;2;Skeeters vs. Grab N Go Tools
END:VEVENT
BEGIN:VEVENT
DTSTART:20250812T193000
DTEND:20250812T201500
SUMMARY:Empire Strikes Out vs. Grab N Go Tools
DESCRIPTION:Tuesday Men's League - Smithfield Recreation
LOCATION:East Softball Field
CATEGORIES:QuickScores; Softball - Adult Game
TRANSP:0
DALARM:20250812T173000;PT10M;2;Empire Strikes Out vs. Grab N Go Tools
END:VEVENT
BEGIN:VEVENT
DTSTART:20250819T201500
DTEND:20250819T210000
SUMMARY:JV squad vs. Grab N Go Tools
DESCRIPTION:Tuesday Men's League - Smithfield Recreation
LOCATION:West Softball Field
CATEGORIES:QuickScores; Softball - Adult Game
TRANSP:0
DALARM:20250819T181500;PT10M;2;JV squad vs. Grab N Go Tools
END:VEVENT
BEGIN:VEVENT
DTSTART:20250819T210000
DTEND:20250819T214500
SUMMARY:Megalodon vs. Grab N Go Tools
DESCRIPTION:Tuesday Men's League - Smithfield Recreation
LOCATION:West Softball Field
CATEGORIES:QuickScores; Softball - Adult Game
TRANSP:0
DALARM:20250819T190000;PT10M;2;Megalodon vs. Grab N Go Tools
END:VEVENT
BEGIN:VEVENT
DTSTART:20250902T180000
DTEND:20250902T184500
SUMMARY:Grab N Go Tools vs. Schreiber Foods
DESCRIPTION:Tuesday Men's League - Smithfield Recreation
LOCATION:West Softball Field
CATEGORIES:QuickScores; Softball - Adult Game
TRANSP:0
DALARM:20250902T160000;PT10M;2;Grab N Go Tools vs. Schreiber Foods
END:VEVENT
BEGIN:VEVENT
DTSTART:20250902T193000
DTEND:20250902T201500
SUMMARY:Grab N Go Tools vs. J Rock Concrete
DESCRIPTION:Tuesday Men's League - Smithfield Recreation
LOCATION:East Softball Field
CATEGORIES:QuickScores; Softball - Adult Game
TRANSP:0
DALARM:20250902T173000;PT10M;2;Grab N Go Tools vs. J Rock Concrete
END:VEVENT
BEGIN:VEVENT
DTSTART:20250909T201500
DTEND:20250909T210000
SUMMARY:Grab N Go Tools vs. Bomb Squad
DESCRIPTION:Tuesday Men's League - Smithfield Recreation
LOCATION:West Softball Field
CATEGORIES:QuickScores; Softball - Adult Game
TRANSP:0
DALARM:20250909T181500;PT10M;2;Grab N Go Tools vs. Bomb Squad
END:VEVENT
BEGIN:VEVENT
DTSTART:20250909T210000
DTEND:20250909T214500
SUMMARY:Grab N Go Tools vs. Scared Hitless
DESCRIPTION:Tuesday Men's League - Smithfield Recreation
LOCATION:East Softball Field
CATEGORIES:QuickScores; Softball - Adult Game
TRANSP:0
DALARM:20250909T190000;PT10M;2;Grab N Go Tools vs. Scared Hitless
END:VEVENT
BEGIN:VEVENT
DTSTART:20250916T180000
DTEND:20250916T184500
SUMMARY:Grab N Go Tools vs. Wright Angle
DESCRIPTION:Tuesday Men's League - Smithfield Recreation
LOCATION:East Softball Field
CATEGORIES:QuickScores; Softball - Adult Game
TRANSP:0
DALARM:20250916T160000;PT10M;2;Grab N Go Tools vs. Wright Angle
END:VEVENT
BEGIN:VEVENT
DTSTART:20250916T184500
DTEND:20250916T193000
SUMMARY:Grab N Go Tools vs. Base Invaders
DESCRIPTION:Tuesday Men's League - Smithfield Recreation
LOCATION:West Softball Field
CATEGORIES:QuickScores; Softball - Adult Game
TRANSP:0
DALARM:20250916T164500;PT10M;2;Grab N Go Tools vs. Base Invaders
END:VEVENT
BEGIN:VEVENT
DTSTART:20250923T184500
DTEND:20250923T193000
SUMMARY:[2] Grab N Go Tools vs. [7] Scared Hitless
DESCRIPTION:Tuesday Men's League - Smithfield Recreation
LOCATION:East Softball Field
CATEGORIES:QuickScores; Softball - Adult Game
TRANSP:0
DALARM:20250923T164500;PT10M;2;[2] Grab N Go Tools vs. [7] Scared Hitless
END:VEVENT
BEGIN:VEVENT
DTSTART:20250923T193000
DTEND:20250923T201500
SUMMARY:[2] Grab N Go Tools vs. [3] Skeeters
DESCRIPTION:Tuesday Men's League - Smithfield Recreation
LOCATION:East Softball Field
CATEGORIES:QuickScores; Softball - Adult Game
TRANSP:0
DALARM:20250923T173000;PT10M;2;[2] Grab N Go Tools vs. [3] Skeeters
END:VEVENT
END:VCALENDAR
