BEGIN:VCALENDAR
VERSION:1.0
BEGIN:VEVENT
DTSTART:20250805T193000
DTEND:20250805T201500
SUMMARY:JV squad vs. Base Invaders
DESCRIPTION:Tuesday Men's League - Smithfield Recreation
LOCATION:West Softball Field
CATEGORIES:QuickScores; Softball - Adult Game
TRANSP:0
DALARM:20250805T173000;PT10M;2;JV squad vs. Base Invaders
END:VEVENT
BEGIN:VEVENT
DTSTART:20250805T201500
DTEND:20250805T210000
SUMMARY:Schreiber Foods vs. Base Invaders
DESCRIPTION:Tuesday Men's League - Smithfield Recreation
LOCATION:West Softball Field
CATEGORIES:QuickScores; Softball - Adult Game
TRANSP:0
DALARM:20250805T181500;PT10M;2;Schreiber Foods vs. Base Invaders
END:VEVENT
BEGIN:VEVENT
DTSTART:20250812T180000
DTEND:20250812T184500
SUMMARY:Base Invaders vs. J Rock Concrete
DESCRIPTION:Tuesday Men's League - Smithfield Recreation
LOCATION:East Softball Field
CATEGORIES:QuickScores; Softball - Adult Game
TRANSP:0
DALARM:20250812T160000;PT10M;2;Base Invaders vs. J Rock Concrete
END:VEVENT
BEGIN:VEVENT
DTSTART:20250812T193000
DTEND:20250812T201500
SUMMARY:Base Invaders vs. Bomb Squad
DESCRIPTION:Tuesday Men's League - Smithfield Recreation
LOCATION:West Softball Field
CATEGORIES:QuickScores; Softball - Adult Game
TRANSP:0
DALARM:20250812T173000;PT10M;2;Base Invaders vs. Bomb Squad
END:VEVENT
BEGIN:VEVENT
DTSTART:20250819T210000
DTEND:20250819T214500
SUMMARY:Base Invaders vs. Wright Angle
DESCRIPTION:Tuesday Men's League - Smithfield Recreation
LOCATION:East Softball Field
CATEGORIES:QuickScores; Softball - Adult Game
TRANSP:0
DALARM:20250819T190000;PT10M;2;Base Invaders vs. Wright Angle
END:VEVENT
BEGIN:VEVENT
DTSTART:20250819T214500
DTEND:20250819T223000
SUMMARY:Megalodon vs. Base Invaders
DESCRIPTION:Tuesday Men's League - Smithfield Recreation
LOCATION:East Softball Field
CATEGORIES:QuickScores; Softball - Adult Game
TRANSP:0
DALARM:20250819T194500;PT10M;2;Megalodon vs. Base Invaders
END:VEVENT
BEGIN:VEVENT
DTSTART:20250902T201500
DTEND:20250902T210000
SUMMARY:Scared Hitless vs. Base Invaders
DESCRIPTION:Tuesday Men's League - Smithfield Recreation
LOCATION:East Softball Field
CATEGORIES:QuickScores; Softball - Adult Game
TRANSP:0
DALARM:20250902T181500;PT10M;2;Scared Hitless vs. Base Invaders
END:VEVENT
BEGIN:VEVENT
DTSTART:20250902T210000
DTEND:20250902T214500
SUMMARY:Skeeters vs. Base Invaders
DESCRIPTION:Tuesday Men's League - Smithfield Recreation
LOCATION:East Softball Field
CATEGORIES:QuickScores; Softball - Adult Game
TRANSP:0
DALARM:20250902T190000;PT10M;2;Skeeters vs. Base Invaders
END:VEVENT
BEGIN:VEVENT
DTSTART:20250909T180000
DTEND:20250909T184500
SUMMARY:Base Invaders vs. JV squad
DESCRIPTION:Tuesday Men's League - Smithfield Recreation
LOCATION:East Softball Field
CATEGORIES:QuickScores; Softball - Adult Game
TRANSP:0
DALARM:20250909T160000;PT10M;2;Base Invaders vs. JV squad
END:VEVENT
BEGIN:VEVENT
DTSTART:20250909T184500
DTEND:20250909T193000
SUMMARY:Base Invaders vs. Schreiber Foods
DESCRIPTION:Tuesday Men's League - Smithfield Recreation
LOCATION:West Softball Field
CATEGORIES:QuickScores; Softball - Adult Game
TRANSP:0
DALARM:20250909T164500;PT10M;2;Base Invaders vs. Schreiber Foods
END:VEVENT
BEGIN:VEVENT
DTSTART:20250916T180000
DTEND:20250916T184500
SUMMARY:Base Invaders vs. Empire Strikes Out
DESCRIPTION:Tuesday Men's League - Smithfield Recreation
LOCATION:West Softball Field
CATEGORIES:QuickScores; Softball - Adult Game
TRANSP:0
DALARM:20250916T160000;PT10M;2;Base Invaders vs. Empire Strikes Out
END:VEVENT
BEGIN:VEVENT
DTSTART:20250916T184500
DTEND:20250916T193000
SUMMARY:Grab N Go Tools vs. Base Invaders
DESCRIPTION:Tuesday Men's League - Smithfield Recreation
LOCATION:West Softball Field
CATEGORIES:QuickScores; Softball - Adult Game
TRANSP:0
DALARM:20250916T164500;PT10M;2;Grab N Go Tools vs. Base Invaders
END:VEVENT
BEGIN:VEVENT
DTSTART:20250923T180000
DTEND:20250923T184500
SUMMARY:[3] Skeeters vs. [6] Base Invaders
DESCRIPTION:Tuesday Men's League - Smithfield Recreation
LOCATION:West Softball Field
CATEGORIES:QuickScores; Softball - Adult Game
TRANSP:0
DALARM:20250923T160000;PT10M;2;[3] Skeeters vs. [6] Base Invaders
END:VEVENT
END:VCALENDAR
