BEGIN:VCALENDAR
VERSION:1.0
BEGIN:VEVENT
DTSTART:20250512T180000
DTEND:20250512T190000
SUMMARY:Rosebud Appliance vs. Golden Steps
DESCRIPTION:25 Monday Co-Ed League - Smithfield Recreation
LOCATION:West Softball Field
CATEGORIES:QuickScores; Softball - Adult Game
TRANSP:0
DALARM:20250512T160000;PT10M;2;Rosebud Appliance vs. Golden Steps
END:VEVENT
BEGIN:VEVENT
DTSTART:20250519T190000
DTEND:20250519T200000
SUMMARY:Rosebud Appliance vs. Gunsight Farms
DESCRIPTION:25 Monday Co-Ed League - Smithfield Recreation
LOCATION:West Softball Field
CATEGORIES:QuickScores; Softball - Adult Game
TRANSP:0
DALARM:20250519T170000;PT10M;2;Rosebud Appliance vs. Gunsight Farms
END:VEVENT
BEGIN:VEVENT
DTSTART:20250602T210000
DTEND:20250602T220000
SUMMARY:Dirty Mitts vs. Rosebud Appliance
DESCRIPTION:25 Monday Co-Ed League - Smithfield Recreation
LOCATION:West Softball Field
CATEGORIES:QuickScores; Softball - Adult Game
TRANSP:0
DALARM:20250602T190000;PT10M;2;Dirty Mitts vs. Rosebud Appliance
END:VEVENT
BEGIN:VEVENT
DTSTART:20250609T200000
DTEND:20250609T210000
SUMMARY:Bennett Builds vs. Rosebud Appliance
DESCRIPTION:25 Monday Co-Ed League - Smithfield Recreation
LOCATION:East Softball Field
CATEGORIES:QuickScores; Softball - Adult Game
TRANSP:0
DALARM:20250609T180000;PT10M;2;Bennett Builds vs. Rosebud Appliance
END:VEVENT
BEGIN:VEVENT
DTSTART:20250616T210000
DTEND:20250616T220000
SUMMARY:Rosebud Appliance vs. Cracker Jack Kids
DESCRIPTION:25 Monday Co-Ed League - Smithfield Recreation
LOCATION:East Softball Field
CATEGORIES:QuickScores; Softball - Adult Game
TRANSP:0
DALARM:20250616T190000;PT10M;2;Rosebud Appliance vs. Cracker Jack Kids
END:VEVENT
BEGIN:VEVENT
DTSTART:20250623T210000
DTEND:20250623T220000
SUMMARY:J&J vs. Rosebud Appliance
DESCRIPTION:25 Monday Co-Ed League - Smithfield Recreation
LOCATION:West Softball Field
CATEGORIES:QuickScores; Softball - Adult Game
TRANSP:0
DALARM:20250623T190000;PT10M;2;J&J vs. Rosebud Appliance
END:VEVENT
BEGIN:VEVENT
DTSTART:20250630T190000
DTEND:20250630T200000
SUMMARY:Rosebud Appliance vs. HMH
DESCRIPTION:25 Monday Co-Ed League - Smithfield Recreation
LOCATION:East Softball Field
CATEGORIES:QuickScores; Softball - Adult Game
TRANSP:0
DALARM:20250630T170000;PT10M;2;Rosebud Appliance vs. HMH
END:VEVENT
BEGIN:VEVENT
DTSTART:20250707T190000
DTEND:20250707T200000
SUMMARY:Rosebud Appliance vs. Forge Batties
DESCRIPTION:25 Monday Co-Ed League - Smithfield Recreation
LOCATION:West Softball Field
CATEGORIES:QuickScores; Softball - Adult Game
TRANSP:0
DALARM:20250707T170000;PT10M;2;Rosebud Appliance vs. Forge Batties
END:VEVENT
BEGIN:VEVENT
DTSTART:20250714T200000
DTEND:20250714T210000
SUMMARY:Rosebud Appliance vs. Wright Angle
DESCRIPTION:25 Monday Co-Ed League - Smithfield Recreation
LOCATION:East Softball Field
CATEGORIES:QuickScores; Softball - Adult Game
TRANSP:0
DALARM:20250714T180000;PT10M;2;Rosebud Appliance vs. Wright Angle
END:VEVENT
BEGIN:VEVENT
DTSTART:20250721T180000
DTEND:20250721T190000
SUMMARY:Amalga 3rd Ward vs. Rosebud Appliance
DESCRIPTION:25 Monday Co-Ed League - Smithfield Recreation
LOCATION:East Softball Field
CATEGORIES:QuickScores; Softball - Adult Game
TRANSP:0
DALARM:20250721T160000;PT10M;2;Amalga 3rd Ward vs. Rosebud Appliance
END:VEVENT
END:VCALENDAR
