BEGIN:VCALENDAR
VERSION:1.0
BEGIN:VEVENT
DTSTART:20250111T140000
DTEND:20250111T150000
SUMMARY:Nuggets: Balli vs. Jazz: Watts
DESCRIPTION:7-8 Grade Boys - Smithfield Recreation
LOCATION:Auxiliary Gym
CATEGORIES:QuickScores; Basketball - Youth Game
TRANSP:0
DALARM:20250111T120000;PT10M;2;Nuggets: Balli vs. Jazz: Watts
END:VEVENT
BEGIN:VEVENT
DTSTART:20250111T150000
DTEND:20250111T160000
SUMMARY:Suns: Guthrie vs. Nuggets: Balli
DESCRIPTION:7-8 Grade Boys - Smithfield Recreation
LOCATION:Multi-Purpose North Gym
CATEGORIES:QuickScores; Basketball - Youth Game
TRANSP:0
DALARM:20250111T130000;PT10M;2;Suns: Guthrie vs. Nuggets: Balli
END:VEVENT
BEGIN:VEVENT
DTSTART:20250118T080000
DTEND:20250118T090000
SUMMARY:Bucks: Gunnell vs. Nuggets: Balli
DESCRIPTION:7-8 Grade Boys - Smithfield Recreation
LOCATION:Civic Center
CATEGORIES:QuickScores; Basketball - Youth Game
TRANSP:0
DALARM:20250118T060000;PT10M;2;Bucks: Gunnell vs. Nuggets: Balli
END:VEVENT
BEGIN:VEVENT
DTSTART:20250125T140000
DTEND:20250125T150000
SUMMARY:Nuggets: Balli vs. Thunder: Hancey
DESCRIPTION:7-8 Grade Boys - Smithfield Recreation
LOCATION:Multi-Purpose North Gym
CATEGORIES:QuickScores; Basketball - Youth Game
TRANSP:0
DALARM:20250125T120000;PT10M;2;Nuggets: Balli vs. Thunder: Hancey
END:VEVENT
BEGIN:VEVENT
DTSTART:20250201T090000
DTEND:20250201T100000
SUMMARY:Thunder: Hancey vs. Nuggets: Balli
DESCRIPTION:7-8 Grade Boys - Smithfield Recreation
LOCATION:Civic Center
CATEGORIES:QuickScores; Basketball - Youth Game
TRANSP:0
DALARM:20250201T070000;PT10M;2;Thunder: Hancey vs. Nuggets: Balli
END:VEVENT
BEGIN:VEVENT
DTSTART:20250201T100000
DTEND:20250201T110000
SUMMARY:Nuggets: Balli vs. Bucks: Gunnell
DESCRIPTION:7-8 Grade Boys - Smithfield Recreation
LOCATION:Civic Center
CATEGORIES:QuickScores; Basketball - Youth Game
TRANSP:0
DALARM:20250201T080000;PT10M;2;Nuggets: Balli vs. Bucks: Gunnell
END:VEVENT
BEGIN:VEVENT
DTSTART:20250208T100000
DTEND:20250208T110000
SUMMARY:Nuggets: Balli vs. Suns: Guthrie
DESCRIPTION:7-8 Grade Boys - Smithfield Recreation
LOCATION:Multi-Purpose North Gym
CATEGORIES:QuickScores; Basketball - Youth Game
TRANSP:0
DALARM:20250208T080000;PT10M;2;Nuggets: Balli vs. Suns: Guthrie
END:VEVENT
BEGIN:VEVENT
DTSTART:20250222T100000
DTEND:20250222T110000
SUMMARY:Jazz: Watts vs. Nuggets: Balli
DESCRIPTION:7-8 Grade Boys - Smithfield Recreation
LOCATION:Multi-Purpose North Gym
CATEGORIES:QuickScores; Basketball - Youth Game
TRANSP:0
DALARM:20250222T080000;PT10M;2;Jazz: Watts vs. Nuggets: Balli
END:VEVENT
BEGIN:VEVENT
DTSTART:20250301T080000
DTEND:20250301T090000
SUMMARY:[4] Thunder: Hancey vs. [5] Nuggets: Balli
DESCRIPTION:7-8 Grade Boys - Smithfield Recreation
LOCATION:Multi-Purpose North Gym
CATEGORIES:QuickScores; Basketball - Youth Game
TRANSP:0
DALARM:20250301T060000;PT10M;2;[4] Thunder: Hancey vs. [5] Nuggets: Balli
END:VEVENT
BEGIN:VEVENT
DTSTART:20250301T090000
DTEND:20250301T100000
SUMMARY:[1] Bucks: Gunnell vs. [5] Nuggets: Balli
DESCRIPTION:7-8 Grade Boys - Smithfield Recreation
LOCATION:Multi-Purpose North Gym
CATEGORIES:QuickScores; Basketball - Youth Game
TRANSP:0
DALARM:20250301T070000;PT10M;2;[1] Bucks: Gunnell vs. [5] Nuggets: Balli
END:VEVENT
END:VCALENDAR
