BEGIN:VCALENDAR
VERSION:1.0
BEGIN:VEVENT
DTSTART:20250109T190000
DTEND:20250109T200000
SUMMARY:La Tortugas vs. Pistoleros
DESCRIPTION:25 Winter League Thurs. Nights - Smithfield Recreation
LOCATION:Bobcat Gym
CATEGORIES:QuickScores; Basketball - Adult Game
TRANSP:0
DALARM:20250109T170000;PT10M;2;La Tortugas vs. Pistoleros
END:VEVENT
BEGIN:VEVENT
DTSTART:20250116T210000
DTEND:20250116T220000
SUMMARY:Garbage Minutes vs. La Tortugas
DESCRIPTION:25 Winter League Thurs. Nights - Smithfield Recreation
LOCATION:Bobcat Gym
CATEGORIES:QuickScores; Basketball - Adult Game
TRANSP:0
DALARM:20250116T190000;PT10M;2;Garbage Minutes vs. La Tortugas
END:VEVENT
BEGIN:VEVENT
DTSTART:20250123T210000
DTEND:20250123T220000
SUMMARY:E3 vs. La Tortugas
DESCRIPTION:25 Winter League Thurs. Nights - Smithfield Recreation
LOCATION:Multi-Purpose North Gym
CATEGORIES:QuickScores; Basketball - Adult Game
TRANSP:0
DALARM:20250123T190000;PT10M;2;E3 vs. La Tortugas
END:VEVENT
BEGIN:VEVENT
DTSTART:20250130T180000
DTEND:20250130T190000
SUMMARY:The Super Soakers vs. La Tortugas
DESCRIPTION:25 Winter League Thurs. Nights - Smithfield Recreation
LOCATION:Bobcat Gym
CATEGORIES:QuickScores; Basketball - Adult Game
TRANSP:0
DALARM:20250130T160000;PT10M;2;The Super Soakers vs. La Tortugas
END:VEVENT
BEGIN:VEVENT
DTSTART:20250206T210000
DTEND:20250206T220000
SUMMARY:La Tortugas vs. Tom's Team
DESCRIPTION:25 Winter League Thurs. Nights - Smithfield Recreation
LOCATION:Bobcat Gym
CATEGORIES:QuickScores; Basketball - Adult Game
TRANSP:0
DALARM:20250206T190000;PT10M;2;La Tortugas vs. Tom's Team
END:VEVENT
BEGIN:VEVENT
DTSTART:20250213T200000
DTEND:20250213T210000
SUMMARY:Tyson Luthi State Farm vs. La Tortugas
DESCRIPTION:25 Winter League Thurs. Nights - Smithfield Recreation
LOCATION:Bobcat Gym
CATEGORIES:QuickScores; Basketball - Adult Game
TRANSP:0
DALARM:20250213T180000;PT10M;2;Tyson Luthi State Farm vs. La Tortugas
END:VEVENT
BEGIN:VEVENT
DTSTART:20250220T190000
DTEND:20250220T200000
SUMMARY:La Tortugas vs. Nacho LiBros
DESCRIPTION:25 Winter League Thurs. Nights - Smithfield Recreation
LOCATION:Bobcat Gym
CATEGORIES:QuickScores; Basketball - Adult Game
TRANSP:0
DALARM:20250220T170000;PT10M;2;La Tortugas vs. Nacho LiBros
END:VEVENT
BEGIN:VEVENT
DTSTART:20250227T190000
DTEND:20250227T200000
SUMMARY:[1] La Tortugas vs. [9] Backdoor Ballers
DESCRIPTION:25 Winter League Thurs. Nights - Smithfield Recreation
LOCATION:Bobcat Gym
CATEGORIES:QuickScores; Basketball - Adult Game
TRANSP:0
DALARM:20250227T170000;PT10M;2;[1] La Tortugas vs. [9] Backdoor Ballers
END:VEVENT
BEGIN:VEVENT
DTSTART:20250306T193000
DTEND:20250306T202500
SUMMARY:[1] La Tortugas vs. [4] Pistoleros
DESCRIPTION:25 Winter League Thurs. Nights - Smithfield Recreation
LOCATION:Spectator Gym
CATEGORIES:QuickScores; Basketball - Adult Game
TRANSP:0
DALARM:20250306T173000;PT10M;2;[1] La Tortugas vs. [4] Pistoleros
END:VEVENT
BEGIN:VEVENT
DTSTART:20250306T212000
DTEND:20250306T221500
SUMMARY:[1] La Tortugas vs. [3] Tom's Team
DESCRIPTION:25 Winter League Thurs. Nights - Smithfield Recreation
LOCATION:Spectator Gym
CATEGORIES:QuickScores; Basketball - Adult Game
TRANSP:0
DALARM:20250306T192000;PT10M;2;[1] La Tortugas vs. [3] Tom's Team
END:VEVENT
END:VCALENDAR
