BEGIN:VCALENDAR
VERSION:1.0
BEGIN:VEVENT
DTSTART:20250109T200000
DTEND:20250109T210000
SUMMARY:Garbage Minutes vs. Backdoor Ballers
DESCRIPTION:25 Winter League Thurs. Nights - Smithfield Recreation
LOCATION:Multi-Purpose North Gym
CATEGORIES:QuickScores; Basketball - Adult Game
TRANSP:0
DALARM:20250109T180000;PT10M;2;Garbage Minutes vs. Backdoor Ballers
END:VEVENT
BEGIN:VEVENT
DTSTART:20250116T210000
DTEND:20250116T220000
SUMMARY:The Super Soakers vs. Backdoor Ballers
DESCRIPTION:25 Winter League Thurs. Nights - Smithfield Recreation
LOCATION:Multi-Purpose North Gym
CATEGORIES:QuickScores; Basketball - Adult Game
TRANSP:0
DALARM:20250116T190000;PT10M;2;The Super Soakers vs. Backdoor Ballers
END:VEVENT
BEGIN:VEVENT
DTSTART:20250123T210000
DTEND:20250123T220000
SUMMARY:Pistoleros vs. Backdoor Ballers
DESCRIPTION:25 Winter League Thurs. Nights - Smithfield Recreation
LOCATION:Bobcat Gym
CATEGORIES:QuickScores; Basketball - Adult Game
TRANSP:0
DALARM:20250123T190000;PT10M;2;Pistoleros vs. Backdoor Ballers
END:VEVENT
BEGIN:VEVENT
DTSTART:20250130T190000
DTEND:20250130T200000
SUMMARY:Backdoor Ballers vs. Tyson Luthi State Farm
DESCRIPTION:25 Winter League Thurs. Nights - Smithfield Recreation
LOCATION:Bobcat Gym
CATEGORIES:QuickScores; Basketball - Adult Game
TRANSP:0
DALARM:20250130T170000;PT10M;2;Backdoor Ballers vs. Tyson Luthi State Farm
END:VEVENT
BEGIN:VEVENT
DTSTART:20250206T200000
DTEND:20250206T210000
SUMMARY:E3 vs. Backdoor Ballers
DESCRIPTION:25 Winter League Thurs. Nights - Smithfield Recreation
LOCATION:Bobcat Gym
CATEGORIES:QuickScores; Basketball - Adult Game
TRANSP:0
DALARM:20250206T180000;PT10M;2;E3 vs. Backdoor Ballers
END:VEVENT
BEGIN:VEVENT
DTSTART:20250213T180000
DTEND:20250213T190000
SUMMARY:Backdoor Ballers vs. Twisted Keys
DESCRIPTION:25 Winter League Thurs. Nights - Smithfield Recreation
LOCATION:Bobcat Gym
CATEGORIES:QuickScores; Basketball - Adult Game
TRANSP:0
DALARM:20250213T160000;PT10M;2;Backdoor Ballers vs. Twisted Keys
END:VEVENT
BEGIN:VEVENT
DTSTART:20250220T210000
DTEND:20250220T220000
SUMMARY:Backdoor Ballers vs. Tom's Team
DESCRIPTION:25 Winter League Thurs. Nights - Smithfield Recreation
LOCATION:Multi-Purpose North Gym
CATEGORIES:QuickScores; Basketball - Adult Game
TRANSP:0
DALARM:20250220T190000;PT10M;2;Backdoor Ballers vs. Tom's Team
END:VEVENT
BEGIN:VEVENT
DTSTART:20250227T180000
DTEND:20250227T190000
SUMMARY:[8] Twisted Keys vs. [9] Backdoor Ballers
DESCRIPTION:25 Winter League Thurs. Nights - Smithfield Recreation
LOCATION:Bobcat Gym
CATEGORIES:QuickScores; Basketball - Adult Game
TRANSP:0
DALARM:20250227T160000;PT10M;2;[8] Twisted Keys vs. [9] Backdoor Ballers
END:VEVENT
BEGIN:VEVENT
DTSTART:20250227T190000
DTEND:20250227T200000
SUMMARY:[1] La Tortugas vs. [9] Backdoor Ballers
DESCRIPTION:25 Winter League Thurs. Nights - Smithfield Recreation
LOCATION:Bobcat Gym
CATEGORIES:QuickScores; Basketball - Adult Game
TRANSP:0
DALARM:20250227T170000;PT10M;2;[1] La Tortugas vs. [9] Backdoor Ballers
END:VEVENT
END:VCALENDAR
