BEGIN:VCALENDAR
VERSION:1.0
BEGIN:VEVENT
DTSTART:20240604T173000
DTEND:20240604T183000
SUMMARY:Padres: Kooyman vs. Cardinals: Winn
DESCRIPTION:T Ball - Smithfield Recreation
LOCATION:West Field North
CATEGORIES:QuickScores; Baseball - Youth Game
TRANSP:0
DALARM:20240604T153000;PT10M;2;Padres: Kooyman vs. Cardinals: Winn
END:VEVENT
BEGIN:VEVENT
DTSTART:20240606T200000
DTEND:20240606T210000
SUMMARY:Dodgers: Madsen vs. Cardinals: Winn
DESCRIPTION:T Ball - Smithfield Recreation
LOCATION:West Field South
CATEGORIES:QuickScores; Baseball - Youth Game
TRANSP:0
DALARM:20240606T180000;PT10M;2;Dodgers: Madsen vs. Cardinals: Winn
END:VEVENT
BEGIN:VEVENT
DTSTART:20240611T183000
DTEND:20240611T193000
SUMMARY:Diamondbacks: Smith vs. Cardinals: Winn
DESCRIPTION:T Ball - Smithfield Recreation
LOCATION:West Field North
CATEGORIES:QuickScores; Baseball - Youth Game
TRANSP:0
DALARM:20240611T163000;PT10M;2;Diamondbacks: Smith vs. Cardinals: Winn
END:VEVENT
BEGIN:VEVENT
DTSTART:20240613T193000
DTEND:20240613T203000
SUMMARY:Cardinals: Winn vs. Brewers: Gomm
DESCRIPTION:T Ball - Smithfield Recreation
LOCATION:West Field North
CATEGORIES:QuickScores; Baseball - Youth Game
TRANSP:0
DALARM:20240613T173000;PT10M;2;Cardinals: Winn vs. Brewers: Gomm
END:VEVENT
BEGIN:VEVENT
DTSTART:20240618T200000
DTEND:20240618T210000
SUMMARY:Royals: Ringler vs. Cardinals: Winn
DESCRIPTION:T Ball - Smithfield Recreation
LOCATION:West Field South
CATEGORIES:QuickScores; Baseball - Youth Game
TRANSP:0
DALARM:20240618T180000;PT10M;2;Royals: Ringler vs. Cardinals: Winn
END:VEVENT
BEGIN:VEVENT
DTSTART:20240620T180000
DTEND:20240620T190000
SUMMARY:Cardinals: Winn vs. Athletics: Whitaker
DESCRIPTION:T Ball - Smithfield Recreation
LOCATION:West Field South
CATEGORIES:QuickScores; Baseball - Youth Game
TRANSP:0
DALARM:20240620T160000;PT10M;2;Cardinals: Winn vs. Athletics: Whitaker
END:VEVENT
BEGIN:VEVENT
DTSTART:20240625T190000
DTEND:20240625T200000
SUMMARY:Cardinals: Winn vs. Rangers: McDanel
DESCRIPTION:T Ball - Smithfield Recreation
LOCATION:West Field South
CATEGORIES:QuickScores; Baseball - Youth Game
TRANSP:0
DALARM:20240625T170000;PT10M;2;Cardinals: Winn vs. Rangers: McDanel
END:VEVENT
BEGIN:VEVENT
DTSTART:20240627T183000
DTEND:20240627T193000
SUMMARY:Cardinals: Winn vs. Mariners: Anderson
DESCRIPTION:T Ball - Smithfield Recreation
LOCATION:West Field North
CATEGORIES:QuickScores; Baseball - Youth Game
TRANSP:0
DALARM:20240627T163000;PT10M;2;Cardinals: Winn vs. Mariners: Anderson
END:VEVENT
END:VCALENDAR
