BEGIN:VCALENDAR
VERSION:1.0
BEGIN:VEVENT
DTSTART:20240106T080000
DTEND:20240106T090000
SUMMARY:Lakers:  Gunnell vs. Warriors:  Davis
DESCRIPTION:7-8 Grade Boys - Smithfield Recreation
LOCATION:Bobcat Gym
CATEGORIES:QuickScores; Basketball - Youth Game
TRANSP:0
DALARM:20240106T060000;PT10M;2;Lakers:  Gunnell vs. Warriors:  Davis
END:VEVENT
BEGIN:VEVENT
DTSTART:20240113T080000
DTEND:20240113T090000
SUMMARY:Lakers:  Gunnell vs. Bucks:  Law
DESCRIPTION:7-8 Grade Boys - Smithfield Recreation
LOCATION:Multi-Purpose North Gym
CATEGORIES:QuickScores; Basketball - Youth Game
TRANSP:0
DALARM:20240113T060000;PT10M;2;Lakers:  Gunnell vs. Bucks:  Law
END:VEVENT
BEGIN:VEVENT
DTSTART:20240120T100000
DTEND:20240120T110000
SUMMARY:Nuggets:  Lammi vs. Lakers:  Gunnell
DESCRIPTION:7-8 Grade Boys - Smithfield Recreation
LOCATION:Bobcat Gym
CATEGORIES:QuickScores; Basketball - Youth Game
TRANSP:0
DALARM:20240120T080000;PT10M;2;Nuggets:  Lammi vs. Lakers:  Gunnell
END:VEVENT
BEGIN:VEVENT
DTSTART:20240127T090000
DTEND:20240127T100000
SUMMARY:Celtics:  Talbet vs. Lakers:  Gunnell
DESCRIPTION:7-8 Grade Boys - Smithfield Recreation
LOCATION:Multi-Purpose North Gym
CATEGORIES:QuickScores; Basketball - Youth Game
TRANSP:0
DALARM:20240127T070000;PT10M;2;Celtics:  Talbet vs. Lakers:  Gunnell
END:VEVENT
BEGIN:VEVENT
DTSTART:20240203T120000
DTEND:20240203T130000
SUMMARY:Lakers:  Gunnell vs. Jazz:  Secrist
DESCRIPTION:7-8 Grade Boys - Smithfield Recreation
LOCATION:Multi-Purpose North Gym
CATEGORIES:QuickScores; Basketball - Youth Game
TRANSP:0
DALARM:20240203T100000;PT10M;2;Lakers:  Gunnell vs. Jazz:  Secrist
END:VEVENT
BEGIN:VEVENT
DTSTART:20240210T100000
DTEND:20240210T110000
SUMMARY:Warriors:  Davis vs. Lakers:  Gunnell
DESCRIPTION:7-8 Grade Boys - Smithfield Recreation
LOCATION:Bobcat Gym
CATEGORIES:QuickScores; Basketball - Youth Game
TRANSP:0
DALARM:20240210T080000;PT10M;2;Warriors:  Davis vs. Lakers:  Gunnell
END:VEVENT
BEGIN:VEVENT
DTSTART:20240224T090000
DTEND:20240224T100000
SUMMARY:Bucks:  Law vs. Lakers:  Gunnell
DESCRIPTION:7-8 Grade Boys - Smithfield Recreation
LOCATION:Multi-Purpose North Gym
CATEGORIES:QuickScores; Basketball - Youth Game
TRANSP:0
DALARM:20240224T070000;PT10M;2;Bucks:  Law vs. Lakers:  Gunnell
END:VEVENT
BEGIN:VEVENT
DTSTART:20240302T090000
DTEND:20240302T100000
SUMMARY:[3] Lakers:  Gunnell vs. [6] Celtics:  Talbet
DESCRIPTION:7-8 Grade Boys - Smithfield Recreation
LOCATION:Bobcat Gym
CATEGORIES:QuickScores; Basketball - Youth Game
TRANSP:0
DALARM:20240302T070000;PT10M;2;[3] Lakers:  Gunnell vs. [6] Celtics:  Talbet
END:VEVENT
BEGIN:VEVENT
DTSTART:20240302T110000
DTEND:20240302T120000
SUMMARY:[2] Jazz:  Secrist vs. [3] Lakers:  Gunnell
DESCRIPTION:7-8 Grade Boys - Smithfield Recreation
LOCATION:Bobcat Gym
CATEGORIES:QuickScores; Basketball - Youth Game
TRANSP:0
DALARM:20240302T090000;PT10M;2;[2] Jazz:  Secrist vs. [3] Lakers:  Gunnell
END:VEVENT
BEGIN:VEVENT
DTSTART:20240302T130000
DTEND:20240302T140000
SUMMARY:[1] Bucks:  Law vs. [3] Lakers:  Gunnell
DESCRIPTION:7-8 Grade Boys - Smithfield Recreation
LOCATION:Bobcat Gym
CATEGORIES:QuickScores; Basketball - Youth Game
TRANSP:0
DALARM:20240302T110000;PT10M;2;[1] Bucks:  Law vs. [3] Lakers:  Gunnell
END:VEVENT
END:VCALENDAR
