BEGIN:VCALENDAR
VERSION:1.0
BEGIN:VEVENT
DTSTART:20240106T080000
DTEND:20240106T090000
SUMMARY:Lakers:  Gunnell vs. Warriors:  Davis
DESCRIPTION:7-8 Grade Boys - Smithfield Recreation
LOCATION:Bobcat Gym
CATEGORIES:QuickScores; Basketball - Youth Game
TRANSP:0
DALARM:20240106T060000;PT10M;2;Lakers:  Gunnell vs. Warriors:  Davis
END:VEVENT
BEGIN:VEVENT
DTSTART:20240113T090000
DTEND:20240113T100000
SUMMARY:Warriors:  Davis vs. Jazz:  Secrist
DESCRIPTION:7-8 Grade Boys - Smithfield Recreation
LOCATION:Multi-Purpose North Gym
CATEGORIES:QuickScores; Basketball - Youth Game
TRANSP:0
DALARM:20240113T070000;PT10M;2;Warriors:  Davis vs. Jazz:  Secrist
END:VEVENT
BEGIN:VEVENT
DTSTART:20240120T090000
DTEND:20240120T100000
SUMMARY:Bucks:  Law vs. Warriors:  Davis
DESCRIPTION:7-8 Grade Boys - Smithfield Recreation
LOCATION:Bobcat Gym
CATEGORIES:QuickScores; Basketball - Youth Game
TRANSP:0
DALARM:20240120T070000;PT10M;2;Bucks:  Law vs. Warriors:  Davis
END:VEVENT
BEGIN:VEVENT
DTSTART:20240127T080000
DTEND:20240127T090000
SUMMARY:Nuggets:  Lammi vs. Warriors:  Davis
DESCRIPTION:7-8 Grade Boys - Smithfield Recreation
LOCATION:Multi-Purpose North Gym
CATEGORIES:QuickScores; Basketball - Youth Game
TRANSP:0
DALARM:20240127T060000;PT10M;2;Nuggets:  Lammi vs. Warriors:  Davis
END:VEVENT
BEGIN:VEVENT
DTSTART:20240203T130000
DTEND:20240203T140000
SUMMARY:Warriors:  Davis vs. Celtics:  Talbet
DESCRIPTION:7-8 Grade Boys - Smithfield Recreation
LOCATION:Multi-Purpose North Gym
CATEGORIES:QuickScores; Basketball - Youth Game
TRANSP:0
DALARM:20240203T110000;PT10M;2;Warriors:  Davis vs. Celtics:  Talbet
END:VEVENT
BEGIN:VEVENT
DTSTART:20240210T100000
DTEND:20240210T110000
SUMMARY:Warriors:  Davis vs. Lakers:  Gunnell
DESCRIPTION:7-8 Grade Boys - Smithfield Recreation
LOCATION:Bobcat Gym
CATEGORIES:QuickScores; Basketball - Youth Game
TRANSP:0
DALARM:20240210T080000;PT10M;2;Warriors:  Davis vs. Lakers:  Gunnell
END:VEVENT
BEGIN:VEVENT
DTSTART:20240224T100000
DTEND:20240224T110000
SUMMARY:Jazz:  Secrist vs. Warriors:  Davis
DESCRIPTION:7-8 Grade Boys - Smithfield Recreation
LOCATION:Multi-Purpose North Gym
CATEGORIES:QuickScores; Basketball - Youth Game
TRANSP:0
DALARM:20240224T080000;PT10M;2;Jazz:  Secrist vs. Warriors:  Davis
END:VEVENT
BEGIN:VEVENT
DTSTART:20240302T080000
DTEND:20240302T090000
SUMMARY:[4] Nuggets:  Lammi vs. [5] Warriors:  Davis
DESCRIPTION:7-8 Grade Boys - Smithfield Recreation
LOCATION:Bobcat Gym
CATEGORIES:QuickScores; Basketball - Youth Game
TRANSP:0
DALARM:20240302T060000;PT10M;2;[4] Nuggets:  Lammi vs. [5] Warriors:  Davis
END:VEVENT
END:VCALENDAR
