BEGIN:VCALENDAR
VERSION:1.0
BEGIN:VEVENT
DTSTART:20260325T180000
DTEND:20260325T190000
SUMMARY:LEONARD WRIGHT vs. TRENTON CASEBOLT
DESCRIPTION:12U PRESEASON - <br><br><br>Red River Sports Association
LOCATION:TRENTON F1
CATEGORIES:QuickScores; Softball - Fastpitch Game
TRANSP:0
DALARM:20260325T160000;PT10M;2;LEONARD WRIGHT vs. TRENTON CASEBOLT
END:VEVENT
BEGIN:VEVENT
DTSTART:20260327T190000
DTEND:20260327T200000
SUMMARY:TRENTON CASEBOLT vs. S&S MCCAULEY
DESCRIPTION:12U PRESEASON - <br><br><br>Red River Sports Association
LOCATION:TRENTON F1
CATEGORIES:QuickScores; Softball - Fastpitch Game
TRANSP:0
DALARM:20260327T170000;PT10M;2;TRENTON CASEBOLT vs. S&S MCCAULEY
END:VEVENT
END:VCALENDAR
