BEGIN:VCALENDAR
VERSION:1.0
BEGIN:VEVENT
DTSTART:20260326T180000
DTEND:20260326T190000
SUMMARY:S&S MCCAULEY vs. BELLS ELLER
DESCRIPTION:12U PRESEASON - <br><br><br>Red River Sports Association
LOCATION:TRENTON F1
CATEGORIES:QuickScores; Softball - Fastpitch Game
TRANSP:0
DALARM:20260326T160000;PT10M;2;S&S MCCAULEY vs. BELLS ELLER
END:VEVENT
BEGIN:VEVENT
DTSTART:20260327T190000
DTEND:20260327T200000
SUMMARY:TRENTON CASEBOLT vs. S&S MCCAULEY
DESCRIPTION:12U PRESEASON - <br><br><br>Red River Sports Association
LOCATION:TRENTON F1
CATEGORIES:QuickScores; Softball - Fastpitch Game
TRANSP:0
DALARM:20260327T170000;PT10M;2;TRENTON CASEBOLT vs. S&S MCCAULEY
END:VEVENT
BEGIN:VEVENT
DTSTART:20260328T090000
DTEND:20260328T100000
SUMMARY:S&S MCCAULEY vs. LEONARD MITCHELL
DESCRIPTION:12U PRESEASON - <br><br><br>Red River Sports Association
LOCATION:TRENTON F1
CATEGORIES:QuickScores; Softball - Fastpitch Game
TRANSP:0
DALARM:20260328T070000;PT10M;2;S&S MCCAULEY vs. LEONARD MITCHELL
END:VEVENT
BEGIN:VEVENT
DTSTART:20260328T120000
DTEND:20260328T130000
SUMMARY:S&S MCCAULEY vs. HOWE HIETT
DESCRIPTION:12U PRESEASON - <br><br><br>Red River Sports Association
LOCATION:TRENTON F1
CATEGORIES:QuickScores; Softball - Fastpitch Game
TRANSP:0
DALARM:20260328T100000;PT10M;2;S&S MCCAULEY vs. HOWE HIETT
END:VEVENT
BEGIN:VEVENT
DTSTART:20260328T150000
DTEND:20260328T160000
SUMMARY:WHITEWRIGHT COFFMAN vs. S&S MCCAULEY
DESCRIPTION:12U PRESEASON - <br><br><br>Red River Sports Association
LOCATION:TRENTON F1
CATEGORIES:QuickScores; Softball - Fastpitch Game
TRANSP:0
DALARM:20260328T130000;PT10M;2;WHITEWRIGHT COFFMAN vs. S&S MCCAULEY
END:VEVENT
END:VCALENDAR
