BEGIN:VCALENDAR
VERSION:1.0
BEGIN:VEVENT
DTSTART:20260324T200000
DTEND:20260324T210000
SUMMARY:COLLINSVILLE SCHROEDER vs. HOWE PRITCHARD
DESCRIPTION:10U PRESEASON - <br><br><br>Red River Sports Association
LOCATION:HOWE SOUTH
CATEGORIES:QuickScores; Softball - Fastpitch Game
TRANSP:0
DALARM:20260324T180000;PT10M;2;COLLINSVILLE SCHROEDER vs. HOWE PRITCHARD
END:VEVENT
BEGIN:VEVENT
DTSTART:20260326T180000
DTEND:20260326T190000
SUMMARY:HOWE PRITCHARD vs. POTTSBORO WILBURN
DESCRIPTION:10U PRESEASON - <br><br><br>Red River Sports Association
LOCATION:HOWE NORTH
CATEGORIES:QuickScores; Softball - Fastpitch Game
TRANSP:0
DALARM:20260326T160000;PT10M;2;HOWE PRITCHARD vs. POTTSBORO WILBURN
END:VEVENT
END:VCALENDAR
