BEGIN:VCALENDAR
VERSION:1.0
BEGIN:VEVENT
DTSTART:20260324T200000
DTEND:20260324T210000
SUMMARY:LEONARD PEACH vs. BELLS MCCAIN
DESCRIPTION:10U PRESEASON - <br><br><br>Red River Sports Association
LOCATION:HOWE NORTH
CATEGORIES:QuickScores; Softball - Fastpitch Game
TRANSP:0
DALARM:20260324T180000;PT10M;2;LEONARD PEACH vs. BELLS MCCAIN
END:VEVENT
BEGIN:VEVENT
DTSTART:20260325T190000
DTEND:20260325T200000
SUMMARY:POTTSBORO PERDUE vs. BELLS MCCAIN
DESCRIPTION:10U PRESEASON - <br><br><br>Red River Sports Association
LOCATION:HOWE NORTH
CATEGORIES:QuickScores; Softball - Fastpitch Game
TRANSP:0
DALARM:20260325T170000;PT10M;2;POTTSBORO PERDUE vs. BELLS MCCAIN
END:VEVENT
BEGIN:VEVENT
DTSTART:20260326T200000
DTEND:20260326T210000
SUMMARY:BELLS MCCAIN vs. COLLINSVILLE SCHROEDER
DESCRIPTION:10U PRESEASON - <br><br><br>Red River Sports Association
LOCATION:HOWE SOUTH
CATEGORIES:QuickScores; Softball - Fastpitch Game
TRANSP:0
DALARM:20260326T180000;PT10M;2;BELLS MCCAIN vs. COLLINSVILLE SCHROEDER
END:VEVENT
BEGIN:VEVENT
DTSTART:20260327T190000
DTEND:20260327T200000
SUMMARY:BELLS MCCAIN vs. POTTSBORO WILBURN
DESCRIPTION:10U PRESEASON - <br><br><br>Red River Sports Association
LOCATION:HOWE NORTH
CATEGORIES:QuickScores; Softball - Fastpitch Game
TRANSP:0
DALARM:20260327T170000;PT10M;2;BELLS MCCAIN vs. POTTSBORO WILBURN
END:VEVENT
BEGIN:VEVENT
DTSTART:20260327T200000
DTEND:20260327T210000
SUMMARY:BELLS MCCAIN vs. WHITEWRIGHT DOUGLAS
DESCRIPTION:10U PRESEASON - <br><br><br>Red River Sports Association
LOCATION:HOWE NORTH
CATEGORIES:QuickScores; Softball - Fastpitch Game
TRANSP:0
DALARM:20260327T180000;PT10M;2;BELLS MCCAIN vs. WHITEWRIGHT DOUGLAS
END:VEVENT
BEGIN:VEVENT
DTSTART:20260328T100000
DTEND:20260328T110000
SUMMARY:COLLINSVILLE SCHROEDER vs. BELLS MCCAIN
DESCRIPTION:10U PRESEASON - <br><br><br>Red River Sports Association
LOCATION:HOWE NORTH
CATEGORIES:QuickScores; Softball - Fastpitch Game
TRANSP:0
DALARM:20260328T080000;PT10M;2;COLLINSVILLE SCHROEDER vs. BELLS MCCAIN
END:VEVENT
END:VCALENDAR
