BEGIN:VCALENDAR
VERSION:1.0
BEGIN:VEVENT
DTSTART:20260323T200000
DTEND:20260323T210000
SUMMARY:COLLINSVILLE BIRD vs. TRENTON DALRYMPLE
DESCRIPTION:8U PRESEASON - <br><br><br>Red River Sports Association
LOCATION:POTTSBORO D
CATEGORIES:QuickScores; Softball - Fastpitch Game
TRANSP:0
DALARM:20260323T180000;PT10M;2;COLLINSVILLE BIRD vs. TRENTON DALRYMPLE
END:VEVENT
BEGIN:VEVENT
DTSTART:20260324T190000
DTEND:20260324T200000
SUMMARY:TRENTON DALRYMPLE vs. POTTSBORO DYER
DESCRIPTION:8U PRESEASON - <br><br><br>Red River Sports Association
LOCATION:POTTSBORO D
CATEGORIES:QuickScores; Softball - Fastpitch Game
TRANSP:0
DALARM:20260324T170000;PT10M;2;TRENTON DALRYMPLE vs. POTTSBORO DYER
END:VEVENT
END:VCALENDAR
