BEGIN:VCALENDAR
VERSION:1.0
BEGIN:VEVENT
DTSTART:20260323T180000
DTEND:20260323T190000
SUMMARY:COLLINSVILLE MCNABB vs. POTTSBORO NORRIS
DESCRIPTION:8U PRESEASON - <br><br><br>Red River Sports Association
LOCATION:POTTSBORO D
CATEGORIES:QuickScores; Softball - Fastpitch Game
TRANSP:0
DALARM:20260323T160000;PT10M;2;COLLINSVILLE MCNABB vs. POTTSBORO NORRIS
END:VEVENT
BEGIN:VEVENT
DTSTART:20260324T180000
DTEND:20260324T190000
SUMMARY:POTTSBORO DYER vs. COLLINSVILLE MCNABB
DESCRIPTION:8U PRESEASON - <br><br><br>Red River Sports Association
LOCATION:POTTSBORO C
CATEGORIES:QuickScores; Softball - Fastpitch Game
TRANSP:0
DALARM:20260324T160000;PT10M;2;POTTSBORO DYER vs. COLLINSVILLE MCNABB
END:VEVENT
END:VCALENDAR
