BEGIN:VCALENDAR
VERSION:1.0
BEGIN:VEVENT
DTSTART:20260323T180000
DTEND:20260323T190000
SUMMARY:POTTSBORO DYER vs. BELLS CUNNINGHAM
DESCRIPTION:8U PRESEASON - <br><br><br>Red River Sports Association
LOCATION:POTTSBORO C
CATEGORIES:QuickScores; Softball - Fastpitch Game
TRANSP:0
DALARM:20260323T160000;PT10M;2;POTTSBORO DYER vs. BELLS CUNNINGHAM
END:VEVENT
BEGIN:VEVENT
DTSTART:20260324T180000
DTEND:20260324T190000
SUMMARY:S&S DENNIS vs. BELLS CUNNINGHAM
DESCRIPTION:8U PRESEASON - <br><br><br>Red River Sports Association
LOCATION:POTTSBORO B
CATEGORIES:QuickScores; Softball - Fastpitch Game
TRANSP:0
DALARM:20260324T160000;PT10M;2;S&S DENNIS vs. BELLS CUNNINGHAM
END:VEVENT
BEGIN:VEVENT
DTSTART:20260325T180000
DTEND:20260325T190000
SUMMARY:HOWE HERLINY vs. BELLS CUNNINGHAM
DESCRIPTION:8U PRESEASON - <br><br><br>Red River Sports Association
LOCATION:POTTSBORO B
CATEGORIES:QuickScores; Softball - Fastpitch Game
TRANSP:0
DALARM:20260325T160000;PT10M;2;HOWE HERLINY vs. BELLS CUNNINGHAM
END:VEVENT
BEGIN:VEVENT
DTSTART:20260325T200000
DTEND:20260325T210000
SUMMARY:BELLS CUNNINGHAM vs. BELLS WILSON
DESCRIPTION:8U PRESEASON - <br><br><br>Red River Sports Association
LOCATION:POTTSBORO D
CATEGORIES:QuickScores; Softball - Fastpitch Game
TRANSP:0
DALARM:20260325T180000;PT10M;2;BELLS CUNNINGHAM vs. BELLS WILSON
END:VEVENT
BEGIN:VEVENT
DTSTART:20260326T190000
DTEND:20260326T200000
SUMMARY:S&S DENNIS vs. BELLS CUNNINGHAM
DESCRIPTION:8U PRESEASON - <br><br><br>Red River Sports Association
LOCATION:POTTSBORO C
CATEGORIES:QuickScores; Softball - Fastpitch Game
TRANSP:0
DALARM:20260326T170000;PT10M;2;S&S DENNIS vs. BELLS CUNNINGHAM
END:VEVENT
END:VCALENDAR
