BEGIN:VCALENDAR
VERSION:1.0
BEGIN:VEVENT
DTSTART:20260323T191500
DTEND:20260323T201500
SUMMARY:TRENTON MCCARLEY vs. LEONARD HERMAN
DESCRIPTION:6U PRESEASON - <br><br><br>Red River Sports Association
LOCATION:VA FMP 3
CATEGORIES:QuickScores; Softball - Fastpitch Game
TRANSP:0
DALARM:20260323T171500;PT10M;2;TRENTON MCCARLEY vs. LEONARD HERMAN
END:VEVENT
BEGIN:VEVENT
DTSTART:20260325T191500
DTEND:20260325T201500
SUMMARY:TRENTON MCCARLEY vs. WHITEWRIGHT LAWSON
DESCRIPTION:6U PRESEASON - <br><br><br>Red River Sports Association
LOCATION:VA FMP 1
CATEGORIES:QuickScores; Softball - Fastpitch Game
TRANSP:0
DALARM:20260325T171500;PT10M;2;TRENTON MCCARLEY vs. WHITEWRIGHT LAWSON
END:VEVENT
END:VCALENDAR
