BEGIN:VCALENDAR
VERSION:1.0
BEGIN:VEVENT
DTSTART:20260323T180000
DTEND:20260323T190000
SUMMARY:VA CROOKS vs. POTTSBORO PIERCE
DESCRIPTION:6U PRESEASON - <br><br><br>Red River Sports Association
LOCATION:VA FMP 3
CATEGORIES:QuickScores; Softball - Fastpitch Game
TRANSP:0
DALARM:20260323T160000;PT10M;2;VA CROOKS vs. POTTSBORO PIERCE
END:VEVENT
BEGIN:VEVENT
DTSTART:20260324T180000
DTEND:20260324T190000
SUMMARY:WHITEWRIGHT LAWSON vs. POTTSBORO PIERCE
DESCRIPTION:6U PRESEASON - <br><br><br>Red River Sports Association
LOCATION:VA FMP 3
CATEGORIES:QuickScores; Softball - Fastpitch Game
TRANSP:0
DALARM:20260324T160000;PT10M;2;WHITEWRIGHT LAWSON vs. POTTSBORO PIERCE
END:VEVENT
BEGIN:VEVENT
DTSTART:20260326T180000
DTEND:20260326T190000
SUMMARY:S&S GARZA vs. POTTSBORO PIERCE
DESCRIPTION:6U PRESEASON - <br><br><br>Red River Sports Association
LOCATION:VA FMP 2
CATEGORIES:QuickScores; Softball - Fastpitch Game
TRANSP:0
DALARM:20260326T160000;PT10M;2;S&S GARZA vs. POTTSBORO PIERCE
END:VEVENT
BEGIN:VEVENT
DTSTART:20260327T180000
DTEND:20260327T190000
SUMMARY:HOWE WAGGONER vs. POTTSBORO PIERCE
DESCRIPTION:6U PRESEASON - <br><br><br>Red River Sports Association
LOCATION:VA FMP 2
CATEGORIES:QuickScores; Softball - Fastpitch Game
TRANSP:0
DALARM:20260327T160000;PT10M;2;HOWE WAGGONER vs. POTTSBORO PIERCE
END:VEVENT
BEGIN:VEVENT
DTSTART:20260327T191500
DTEND:20260327T201500
SUMMARY:WHITEWRIGHT LAWSON vs. POTTSBORO PIERCE
DESCRIPTION:6U PRESEASON - <br><br><br>Red River Sports Association
LOCATION:VA FMP 2
CATEGORIES:QuickScores; Softball - Fastpitch Game
TRANSP:0
DALARM:20260327T171500;PT10M;2;WHITEWRIGHT LAWSON vs. POTTSBORO PIERCE
END:VEVENT
BEGIN:VEVENT
DTSTART:20260328T100000
DTEND:20260328T110000
SUMMARY:BELLS LAMANCE vs. POTTSBORO PIERCE
DESCRIPTION:6U PRESEASON - <br><br><br>Red River Sports Association
LOCATION:VA FMP 3
CATEGORIES:QuickScores; Softball - Fastpitch Game
TRANSP:0
DALARM:20260328T080000;PT10M;2;BELLS LAMANCE vs. POTTSBORO PIERCE
END:VEVENT
BEGIN:VEVENT
DTSTART:20260328T110000
DTEND:20260328T120000
SUMMARY:S&S GARZA vs. POTTSBORO PIERCE
DESCRIPTION:6U PRESEASON - <br><br><br>Red River Sports Association
LOCATION:VA FMP 3
CATEGORIES:QuickScores; Softball - Fastpitch Game
TRANSP:0
DALARM:20260328T090000;PT10M;2;S&S GARZA vs. POTTSBORO PIERCE
END:VEVENT
BEGIN:VEVENT
DTSTART:20260328T120000
DTEND:20260328T130000
SUMMARY:POTTSBORO PIERCE vs. S&S GARZA
DESCRIPTION:6U PRESEASON - <br><br><br>Red River Sports Association
LOCATION:VA FMP 3
CATEGORIES:QuickScores; Softball - Fastpitch Game
TRANSP:0
DALARM:20260328T100000;PT10M;2;POTTSBORO PIERCE vs. S&S GARZA
END:VEVENT
END:VCALENDAR
