BEGIN:VCALENDAR
VERSION:1.0
BEGIN:VEVENT
DTSTART:20260323T180000
DTEND:20260323T190000
SUMMARY:WHITEWRIGHT LAWSON vs. HOWE WAGGONER
DESCRIPTION:6U PRESEASON - <br><br><br>Red River Sports Association
LOCATION:VA FMP 2
CATEGORIES:QuickScores; Softball - Fastpitch Game
TRANSP:0
DALARM:20260323T160000;PT10M;2;WHITEWRIGHT LAWSON vs. HOWE WAGGONER
END:VEVENT
BEGIN:VEVENT
DTSTART:20260325T180000
DTEND:20260325T190000
SUMMARY:HOWE WAGGONER vs. VA CROOKS
DESCRIPTION:6U PRESEASON - <br><br><br>Red River Sports Association
LOCATION:VA FMP 3
CATEGORIES:QuickScores; Softball - Fastpitch Game
TRANSP:0
DALARM:20260325T160000;PT10M;2;HOWE WAGGONER vs. VA CROOKS
END:VEVENT
BEGIN:VEVENT
DTSTART:20260326T180000
DTEND:20260326T190000
SUMMARY:TOM BEAN STANLEY vs. HOWE WAGGONER
DESCRIPTION:6U PRESEASON - <br><br><br>Red River Sports Association
LOCATION:VA FMP 3
CATEGORIES:QuickScores; Softball - Fastpitch Game
TRANSP:0
DALARM:20260326T160000;PT10M;2;TOM BEAN STANLEY vs. HOWE WAGGONER
END:VEVENT
BEGIN:VEVENT
DTSTART:20260326T191500
DTEND:20260326T201500
SUMMARY:VA GOMEZ vs. HOWE WAGGONER
DESCRIPTION:6U PRESEASON - <br><br><br>Red River Sports Association
LOCATION:VA FMP 3
CATEGORIES:QuickScores; Softball - Fastpitch Game
TRANSP:0
DALARM:20260326T171500;PT10M;2;VA GOMEZ vs. HOWE WAGGONER
END:VEVENT
BEGIN:VEVENT
DTSTART:20260327T180000
DTEND:20260327T190000
SUMMARY:HOWE WAGGONER vs. POTTSBORO PIERCE
DESCRIPTION:6U PRESEASON - <br><br><br>Red River Sports Association
LOCATION:VA FMP 2
CATEGORIES:QuickScores; Softball - Fastpitch Game
TRANSP:0
DALARM:20260327T160000;PT10M;2;HOWE WAGGONER vs. POTTSBORO PIERCE
END:VEVENT
END:VCALENDAR
