BEGIN:VCALENDAR
VERSION:1.0
BEGIN:VEVENT
DTSTART:20260323T191500
DTEND:20260323T201500
SUMMARY:BELLS BULANEK vs. LEONARD LEWIS
DESCRIPTION:6U PRESEASON - <br><br><br>Red River Sports Association
LOCATION:VA FMP 1
CATEGORIES:QuickScores; Softball - Fastpitch Game
TRANSP:0
DALARM:20260323T171500;PT10M;2;BELLS BULANEK vs. LEONARD LEWIS
END:VEVENT
BEGIN:VEVENT
DTSTART:20260324T191500
DTEND:20260324T201500
SUMMARY:BELLS BULANEK vs. BELLS LAMANCE
DESCRIPTION:6U PRESEASON - <br><br><br>Red River Sports Association
LOCATION:VA FMP 2
CATEGORIES:QuickScores; Softball - Fastpitch Game
TRANSP:0
DALARM:20260324T171500;PT10M;2;BELLS BULANEK vs. BELLS LAMANCE
END:VEVENT
BEGIN:VEVENT
DTSTART:20260325T191500
DTEND:20260325T201500
SUMMARY:VA GOMEZ vs. BELLS BULANEK
DESCRIPTION:6U PRESEASON - <br><br><br>Red River Sports Association
LOCATION:VA FMP 3
CATEGORIES:QuickScores; Softball - Fastpitch Game
TRANSP:0
DALARM:20260325T171500;PT10M;2;VA GOMEZ vs. BELLS BULANEK
END:VEVENT
END:VCALENDAR
