BEGIN:VCALENDAR
VERSION:1.0
BEGIN:VEVENT
DTSTART:20260330T190000
DTEND:20260330T200000
SUMMARY:POTTSBORO ELLIS vs. S&S GARZA
DESCRIPTION:6U SOFTBALL - <br><br><br>Red River Sports Association
LOCATION:POTTSBORO C
CATEGORIES:QuickScores; Softball - Fastpitch Game
TRANSP:0
DALARM:20260330T170000;PT10M;2;POTTSBORO ELLIS vs. S&S GARZA
END:VEVENT
BEGIN:VEVENT
DTSTART:20260401T180000
DTEND:20260401T190000
SUMMARY:S&S GARZA vs. WHITEWRIGHT LAWSON
DESCRIPTION:6U SOFTBALL - <br><br><br>Red River Sports Association
LOCATION:S&S LITTLE
CATEGORIES:QuickScores; Softball - Fastpitch Game
TRANSP:0
DALARM:20260401T160000;PT10M;2;S&S GARZA vs. WHITEWRIGHT LAWSON
END:VEVENT
BEGIN:VEVENT
DTSTART:20260406T180000
DTEND:20260406T190000
SUMMARY:HOWE WAGGONER vs. S&S GARZA
DESCRIPTION:6U SOFTBALL - <br><br><br>Red River Sports Association
LOCATION:HOWE SOUTH
CATEGORIES:QuickScores; Softball - Fastpitch Game
TRANSP:0
DALARM:20260406T160000;PT10M;2;HOWE WAGGONER vs. S&S GARZA
END:VEVENT
BEGIN:VEVENT
DTSTART:20260409T180000
DTEND:20260409T190000
SUMMARY:S&S GARZA vs. POTTSBORO PIERCE
DESCRIPTION:6U SOFTBALL - <br><br><br>Red River Sports Association
LOCATION:S&S LITTLE
CATEGORIES:QuickScores; Softball - Fastpitch Game
TRANSP:0
DALARM:20260409T160000;PT10M;2;S&S GARZA vs. POTTSBORO PIERCE
END:VEVENT
BEGIN:VEVENT
DTSTART:20260413T190000
DTEND:20260413T200000
SUMMARY:S&S GARZA vs. VA GOMEZ
DESCRIPTION:6U SOFTBALL - <br><br><br>Red River Sports Association
LOCATION:VA FMP 1
CATEGORIES:QuickScores; Softball - Fastpitch Game
TRANSP:0
DALARM:20260413T170000;PT10M;2;S&S GARZA vs. VA GOMEZ
END:VEVENT
BEGIN:VEVENT
DTSTART:20260420T180000
DTEND:20260420T190000
SUMMARY:S&S GARZA vs. TRENTON MCCARLEY
DESCRIPTION:6U SOFTBALL - <br><br><br>Red River Sports Association
LOCATION:TRENTON F1
CATEGORIES:QuickScores; Softball - Fastpitch Game
TRANSP:0
DALARM:20260420T160000;PT10M;2;S&S GARZA vs. TRENTON MCCARLEY
END:VEVENT
BEGIN:VEVENT
DTSTART:20260427T190000
DTEND:20260427T200000
SUMMARY:S&S GARZA vs. VA CROOKS
DESCRIPTION:6U SOFTBALL - <br><br><br>Red River Sports Association
LOCATION:VA FMP 1
CATEGORIES:QuickScores; Softball - Fastpitch Game
TRANSP:0
DALARM:20260427T170000;PT10M;2;S&S GARZA vs. VA CROOKS
END:VEVENT
BEGIN:VEVENT
DTSTART:20260430T180000
DTEND:20260430T190000
SUMMARY:S&S GARZA vs. LEONARD LEWIS
DESCRIPTION:6U SOFTBALL - <br><br><br>Red River Sports Association
LOCATION:LEONARD F1
CATEGORIES:QuickScores; Softball - Fastpitch Game
TRANSP:0
DALARM:20260430T160000;PT10M;2;S&S GARZA vs. LEONARD LEWIS
END:VEVENT
BEGIN:VEVENT
DTSTART:20260504T180000
DTEND:20260504T190000
SUMMARY:BELLS BULANEK vs. S&S GARZA
DESCRIPTION:6U SOFTBALL - <br><br><br>Red River Sports Association
LOCATION:BELLS F3 RODDY
CATEGORIES:QuickScores; Softball - Fastpitch Game
TRANSP:0
DALARM:20260504T160000;PT10M;2;BELLS BULANEK vs. S&S GARZA
END:VEVENT
BEGIN:VEVENT
DTSTART:20260506T180000
DTEND:20260506T190000
SUMMARY:S&S GARZA vs. WHITEWRIGHT RITCHIE
DESCRIPTION:6U SOFTBALL - <br><br><br>Red River Sports Association
LOCATION:WW NORTHWEST
CATEGORIES:QuickScores; Softball - Fastpitch Game
TRANSP:0
DALARM:20260506T160000;PT10M;2;S&S GARZA vs. WHITEWRIGHT RITCHIE
END:VEVENT
BEGIN:VEVENT
DTSTART:20260511T180000
DTEND:20260511T190000
SUMMARY:S&S GARZA vs. TOM BEAN STANLEY
DESCRIPTION:6U SOFTBALL - <br><br><br>Red River Sports Association
LOCATION:S&S LITTLE
CATEGORIES:QuickScores; Softball - Fastpitch Game
TRANSP:0
DALARM:20260511T160000;PT10M;2;S&S GARZA vs. TOM BEAN STANLEY
END:VEVENT
BEGIN:VEVENT
DTSTART:20260514T180000
DTEND:20260514T190000
SUMMARY:S&S GARZA vs. LEONARD HERMAN
DESCRIPTION:6U SOFTBALL - <br><br><br>Red River Sports Association
LOCATION:S&S LITTLE
CATEGORIES:QuickScores; Softball - Fastpitch Game
TRANSP:0
DALARM:20260514T160000;PT10M;2;S&S GARZA vs. LEONARD HERMAN
END:VEVENT
END:VCALENDAR
