BEGIN:VCALENDAR
VERSION:1.0
BEGIN:VEVENT
DTSTART:20260330T180000
DTEND:20260330T190000
SUMMARY:BELLS LAMANCE vs. WHITEWRIGHT RITCHIE
DESCRIPTION:6U SOFTBALL - <br><br><br>Red River Sports Association
LOCATION:BELLS F3 RODDY
CATEGORIES:QuickScores; Softball - Fastpitch Game
TRANSP:0
DALARM:20260330T160000;PT10M;2;BELLS LAMANCE vs. WHITEWRIGHT RITCHIE
END:VEVENT
BEGIN:VEVENT
DTSTART:20260406T180000
DTEND:20260406T190000
SUMMARY:LEONARD HERMAN vs. WHITEWRIGHT RITCHIE
DESCRIPTION:6U SOFTBALL - <br><br><br>Red River Sports Association
LOCATION:LEONARD F1
CATEGORIES:QuickScores; Softball - Fastpitch Game
TRANSP:0
DALARM:20260406T160000;PT10M;2;LEONARD HERMAN vs. WHITEWRIGHT RITCHIE
END:VEVENT
BEGIN:VEVENT
DTSTART:20260408T180000
DTEND:20260408T190000
SUMMARY:WHITEWRIGHT RITCHIE vs. TOM BEAN STANLEY
DESCRIPTION:6U SOFTBALL - <br><br><br>Red River Sports Association
LOCATION:WW SOUTHWEST
CATEGORIES:QuickScores; Softball - Fastpitch Game
TRANSP:0
DALARM:20260408T160000;PT10M;2;WHITEWRIGHT RITCHIE vs. TOM BEAN STANLEY
END:VEVENT
BEGIN:VEVENT
DTSTART:20260409T190000
DTEND:20260409T200000
SUMMARY:WHITEWRIGHT RITCHIE vs. VA GOMEZ
DESCRIPTION:6U SOFTBALL - <br><br><br>Red River Sports Association
LOCATION:WW SOUTHWEST
CATEGORIES:QuickScores; Softball - Fastpitch Game
TRANSP:0
DALARM:20260409T170000;PT10M;2;WHITEWRIGHT RITCHIE vs. VA GOMEZ
END:VEVENT
BEGIN:VEVENT
DTSTART:20260413T190000
DTEND:20260413T200000
SUMMARY:WHITEWRIGHT RITCHIE vs. TRENTON MCCARLEY
DESCRIPTION:6U SOFTBALL - <br><br><br>Red River Sports Association
LOCATION:WW SOUTHWEST
CATEGORIES:QuickScores; Softball - Fastpitch Game
TRANSP:0
DALARM:20260413T170000;PT10M;2;WHITEWRIGHT RITCHIE vs. TRENTON MCCARLEY
END:VEVENT
BEGIN:VEVENT
DTSTART:20260423T180000
DTEND:20260423T190000
SUMMARY:BELLS BULANEK vs. WHITEWRIGHT RITCHIE
DESCRIPTION:6U SOFTBALL - <br><br><br>Red River Sports Association
LOCATION:BELLS F3 RODDY
CATEGORIES:QuickScores; Softball - Fastpitch Game
TRANSP:0
DALARM:20260423T160000;PT10M;2;BELLS BULANEK vs. WHITEWRIGHT RITCHIE
END:VEVENT
BEGIN:VEVENT
DTSTART:20260427T180000
DTEND:20260427T190000
SUMMARY:WHITEWRIGHT RITCHIE vs. WHITEWRIGHT LAWSON
DESCRIPTION:6U SOFTBALL - <br><br><br>Red River Sports Association
LOCATION:WW SOUTHWEST
CATEGORIES:QuickScores; Softball - Fastpitch Game
TRANSP:0
DALARM:20260427T160000;PT10M;2;WHITEWRIGHT RITCHIE vs. WHITEWRIGHT LAWSON
END:VEVENT
BEGIN:VEVENT
DTSTART:20260430T190000
DTEND:20260430T200000
SUMMARY:VA CROOKS vs. WHITEWRIGHT RITCHIE
DESCRIPTION:6U SOFTBALL - <br><br><br>Red River Sports Association
LOCATION:VA FMP 1
CATEGORIES:QuickScores; Softball - Fastpitch Game
TRANSP:0
DALARM:20260430T170000;PT10M;2;VA CROOKS vs. WHITEWRIGHT RITCHIE
END:VEVENT
BEGIN:VEVENT
DTSTART:20260504T180000
DTEND:20260504T190000
SUMMARY:POTTSBORO PIERCE vs. WHITEWRIGHT RITCHIE
DESCRIPTION:6U SOFTBALL - <br><br><br>Red River Sports Association
LOCATION:POTTSBORO C
CATEGORIES:QuickScores; Softball - Fastpitch Game
TRANSP:0
DALARM:20260504T160000;PT10M;2;POTTSBORO PIERCE vs. WHITEWRIGHT RITCHIE
END:VEVENT
BEGIN:VEVENT
DTSTART:20260506T180000
DTEND:20260506T190000
SUMMARY:S&S GARZA vs. WHITEWRIGHT RITCHIE
DESCRIPTION:6U SOFTBALL - <br><br><br>Red River Sports Association
LOCATION:WW NORTHWEST
CATEGORIES:QuickScores; Softball - Fastpitch Game
TRANSP:0
DALARM:20260506T160000;PT10M;2;S&S GARZA vs. WHITEWRIGHT RITCHIE
END:VEVENT
BEGIN:VEVENT
DTSTART:20260511T180000
DTEND:20260511T190000
SUMMARY:HOWE WAGGONER vs. WHITEWRIGHT RITCHIE
DESCRIPTION:6U SOFTBALL - <br><br><br>Red River Sports Association
LOCATION:HOWE SOUTH
CATEGORIES:QuickScores; Softball - Fastpitch Game
TRANSP:0
DALARM:20260511T160000;PT10M;2;HOWE WAGGONER vs. WHITEWRIGHT RITCHIE
END:VEVENT
BEGIN:VEVENT
DTSTART:20260514T180000
DTEND:20260514T190000
SUMMARY:WHITEWRIGHT RITCHIE vs. POTTSBORO ELLIS
DESCRIPTION:6U SOFTBALL - <br><br><br>Red River Sports Association
LOCATION:POTTSBORO C
CATEGORIES:QuickScores; Softball - Fastpitch Game
TRANSP:0
DALARM:20260514T160000;PT10M;2;WHITEWRIGHT RITCHIE vs. POTTSBORO ELLIS
END:VEVENT
END:VCALENDAR
