BEGIN:VCALENDAR
VERSION:1.0
BEGIN:VEVENT
DTSTART:20260330T191500
DTEND:20260330T203000
SUMMARY:POTTSBORO PERDUE vs. HOWE PRITCHARD
DESCRIPTION:10U SOFTBALL - <br><br><br>Red River Sports Association
LOCATION:POTTSBORO D
CATEGORIES:QuickScores; Softball - Fastpitch Game
TRANSP:0
DALARM:20260330T171500;PT10M;2;POTTSBORO PERDUE vs. HOWE PRITCHARD
END:VEVENT
BEGIN:VEVENT
DTSTART:20260406T200000
DTEND:20260406T211500
SUMMARY:BELLS CARTER vs. POTTSBORO PERDUE
DESCRIPTION:10U SOFTBALL - <br><br><br>Red River Sports Association
LOCATION:BELLS F3 RODDY
CATEGORIES:QuickScores; Softball - Fastpitch Game
TRANSP:0
DALARM:20260406T180000;PT10M;2;BELLS CARTER vs. POTTSBORO PERDUE
END:VEVENT
BEGIN:VEVENT
DTSTART:20260409T190000
DTEND:20260409T201500
SUMMARY:TRENTON YONKIN vs. POTTSBORO PERDUE
DESCRIPTION:10U SOFTBALL - <br><br><br>Red River Sports Association
LOCATION:TRENTON F1
CATEGORIES:QuickScores; Softball - Fastpitch Game
TRANSP:0
DALARM:20260409T170000;PT10M;2;TRENTON YONKIN vs. POTTSBORO PERDUE
END:VEVENT
BEGIN:VEVENT
DTSTART:20260413T190000
DTEND:20260413T201500
SUMMARY:POTTSBORO PERDUE vs. LEONARD PEACH
DESCRIPTION:10U SOFTBALL - <br><br><br>Red River Sports Association
LOCATION:POTTSBORO C
CATEGORIES:QuickScores; Softball - Fastpitch Game
TRANSP:0
DALARM:20260413T170000;PT10M;2;POTTSBORO PERDUE vs. LEONARD PEACH
END:VEVENT
BEGIN:VEVENT
DTSTART:20260416T190000
DTEND:20260416T201500
SUMMARY:POTTSBORO PERDUE vs. LEONARD WREN
DESCRIPTION:10U SOFTBALL - <br><br><br>Red River Sports Association
LOCATION:POTTSBORO D
CATEGORIES:QuickScores; Softball - Fastpitch Game
TRANSP:0
DALARM:20260416T170000;PT10M;2;POTTSBORO PERDUE vs. LEONARD WREN
END:VEVENT
BEGIN:VEVENT
DTSTART:20260420T190000
DTEND:20260420T201500
SUMMARY:POTTSBORO PERDUE vs. BELLS LUJAN
DESCRIPTION:10U SOFTBALL - <br><br><br>Red River Sports Association
LOCATION:POTTSBORO C
CATEGORIES:QuickScores; Softball - Fastpitch Game
TRANSP:0
DALARM:20260420T170000;PT10M;2;POTTSBORO PERDUE vs. BELLS LUJAN
END:VEVENT
BEGIN:VEVENT
DTSTART:20260423T180000
DTEND:20260423T191500
SUMMARY:COLLINSVILLE SCHROEDER vs. POTTSBORO PERDUE
DESCRIPTION:10U SOFTBALL - <br><br><br>Red River Sports Association
LOCATION:COLLINSVILLE F2
CATEGORIES:QuickScores; Softball - Fastpitch Game
TRANSP:0
DALARM:20260423T160000;PT10M;2;COLLINSVILLE SCHROEDER vs. POTTSBORO PERDUE
END:VEVENT
BEGIN:VEVENT
DTSTART:20260427T191500
DTEND:20260427T203000
SUMMARY:POTTSBORO PERDUE vs. WHITEWRIGHT SELMAN
DESCRIPTION:10U SOFTBALL - <br><br><br>Red River Sports Association
LOCATION:POTTSBORO D
CATEGORIES:QuickScores; Softball - Fastpitch Game
TRANSP:0
DALARM:20260427T171500;PT10M;2;POTTSBORO PERDUE vs. WHITEWRIGHT SELMAN
END:VEVENT
BEGIN:VEVENT
DTSTART:20260430T200000
DTEND:20260430T211500
SUMMARY:POTTSBORO WILBURN vs. POTTSBORO PERDUE
DESCRIPTION:10U SOFTBALL - <br><br><br>Red River Sports Association
LOCATION:POTTSBORO D
CATEGORIES:QuickScores; Softball - Fastpitch Game
TRANSP:0
DALARM:20260430T180000;PT10M;2;POTTSBORO WILBURN vs. POTTSBORO PERDUE
END:VEVENT
BEGIN:VEVENT
DTSTART:20260504T190000
DTEND:20260504T201500
SUMMARY:POTTSBORO PERDUE vs. TRENTON ALLISON
DESCRIPTION:10U SOFTBALL - <br><br><br>Red River Sports Association
LOCATION:POTTSBORO D
CATEGORIES:QuickScores; Softball - Fastpitch Game
TRANSP:0
DALARM:20260504T170000;PT10M;2;POTTSBORO PERDUE vs. TRENTON ALLISON
END:VEVENT
BEGIN:VEVENT
DTSTART:20260507T190000
DTEND:20260507T201500
SUMMARY:COLLINSVILLE BATES vs. POTTSBORO PERDUE
DESCRIPTION:10U SOFTBALL - <br><br><br>Red River Sports Association
LOCATION:COLLINSVILLE F2
CATEGORIES:QuickScores; Softball - Fastpitch Game
TRANSP:0
DALARM:20260507T170000;PT10M;2;COLLINSVILLE BATES vs. POTTSBORO PERDUE
END:VEVENT
BEGIN:VEVENT
DTSTART:20260511T180000
DTEND:20260511T191500
SUMMARY:POTTSBORO PERDUE vs. BELLS MCCAIN
DESCRIPTION:10U SOFTBALL - <br><br><br>Red River Sports Association
LOCATION:POTTSBORO D
CATEGORIES:QuickScores; Softball - Fastpitch Game
TRANSP:0
DALARM:20260511T160000;PT10M;2;POTTSBORO PERDUE vs. BELLS MCCAIN
END:VEVENT
END:VCALENDAR
