BEGIN:VCALENDAR
VERSION:1.0
BEGIN:VEVENT
DTSTART:20260330T190000
DTEND:20260330T201500
SUMMARY:WHITEWRIGHT DOUGLAS vs. BELLS MCCAIN
DESCRIPTION:10U SOFTBALL - <br><br><br>Red River Sports Association
LOCATION:WW NORTHWEST
CATEGORIES:QuickScores; Softball - Fastpitch Game
TRANSP:0
DALARM:20260330T170000;PT10M;2;WHITEWRIGHT DOUGLAS vs. BELLS MCCAIN
END:VEVENT
BEGIN:VEVENT
DTSTART:20260401T190000
DTEND:20260401T201500
SUMMARY:TRENTON YONKIN vs. BELLS MCCAIN
DESCRIPTION:10U SOFTBALL - <br><br><br>Red River Sports Association
LOCATION:TRENTON F1
CATEGORIES:QuickScores; Softball - Fastpitch Game
TRANSP:0
DALARM:20260401T170000;PT10M;2;TRENTON YONKIN vs. BELLS MCCAIN
END:VEVENT
BEGIN:VEVENT
DTSTART:20260406T190000
DTEND:20260406T201500
SUMMARY:POTTSBORO WILBURN vs. BELLS MCCAIN
DESCRIPTION:10U SOFTBALL - <br><br><br>Red River Sports Association
LOCATION:POTTSBORO D
CATEGORIES:QuickScores; Softball - Fastpitch Game
TRANSP:0
DALARM:20260406T170000;PT10M;2;POTTSBORO WILBURN vs. BELLS MCCAIN
END:VEVENT
BEGIN:VEVENT
DTSTART:20260413T200000
DTEND:20260413T211500
SUMMARY:BELLS MCCAIN vs. BELLS CARTER
DESCRIPTION:10U SOFTBALL - <br><br><br>Red River Sports Association
LOCATION:BELLS F3 RODDY
CATEGORIES:QuickScores; Softball - Fastpitch Game
TRANSP:0
DALARM:20260413T180000;PT10M;2;BELLS MCCAIN vs. BELLS CARTER
END:VEVENT
BEGIN:VEVENT
DTSTART:20260416T200000
DTEND:20260416T211500
SUMMARY:TOM  BEAN YOUNG vs. BELLS MCCAIN
DESCRIPTION:10U SOFTBALL - <br><br><br>Red River Sports Association
LOCATION:TOM BEAN NORTH
CATEGORIES:QuickScores; Softball - Fastpitch Game
TRANSP:0
DALARM:20260416T180000;PT10M;2;TOM  BEAN YOUNG vs. BELLS MCCAIN
END:VEVENT
BEGIN:VEVENT
DTSTART:20260423T191500
DTEND:20260423T203000
SUMMARY:BELLS MCCAIN vs. COLLINSVILLE SCHROEDER
DESCRIPTION:10U SOFTBALL - <br><br><br>Red River Sports Association
LOCATION:COLLINSVILLE F2
CATEGORIES:QuickScores; Softball - Fastpitch Game
TRANSP:0
DALARM:20260423T171500;PT10M;2;BELLS MCCAIN vs. COLLINSVILLE SCHROEDER
END:VEVENT
BEGIN:VEVENT
DTSTART:20260427T201500
DTEND:20260427T213000
SUMMARY:BELLS MCCAIN vs. LEONARD PEACH
DESCRIPTION:10U SOFTBALL - <br><br><br>Red River Sports Association
LOCATION:BELLS F3 RODDY
CATEGORIES:QuickScores; Softball - Fastpitch Game
TRANSP:0
DALARM:20260427T181500;PT10M;2;BELLS MCCAIN vs. LEONARD PEACH
END:VEVENT
BEGIN:VEVENT
DTSTART:20260430T180000
DTEND:20260430T191500
SUMMARY:VAN ALSTYNE FUNK vs. BELLS MCCAIN
DESCRIPTION:10U SOFTBALL - <br><br><br>Red River Sports Association
LOCATION:VA FMP 2
CATEGORIES:QuickScores; Softball - Fastpitch Game
TRANSP:0
DALARM:20260430T160000;PT10M;2;VAN ALSTYNE FUNK vs. BELLS MCCAIN
END:VEVENT
BEGIN:VEVENT
DTSTART:20260504T180000
DTEND:20260504T191500
SUMMARY:HOWE PRITCHARD vs. BELLS MCCAIN
DESCRIPTION:10U SOFTBALL - <br><br><br>Red River Sports Association
LOCATION:HOWE NORTH
CATEGORIES:QuickScores; Softball - Fastpitch Game
TRANSP:0
DALARM:20260504T160000;PT10M;2;HOWE PRITCHARD vs. BELLS MCCAIN
END:VEVENT
BEGIN:VEVENT
DTSTART:20260507T200000
DTEND:20260507T211500
SUMMARY:BELLS LUJAN vs. BELLS MCCAIN
DESCRIPTION:10U SOFTBALL - <br><br><br>Red River Sports Association
LOCATION:BELLS F3 RODDY
CATEGORIES:QuickScores; Softball - Fastpitch Game
TRANSP:0
DALARM:20260507T180000;PT10M;2;BELLS LUJAN vs. BELLS MCCAIN
END:VEVENT
BEGIN:VEVENT
DTSTART:20260511T180000
DTEND:20260511T191500
SUMMARY:POTTSBORO PERDUE vs. BELLS MCCAIN
DESCRIPTION:10U SOFTBALL - <br><br><br>Red River Sports Association
LOCATION:POTTSBORO D
CATEGORIES:QuickScores; Softball - Fastpitch Game
TRANSP:0
DALARM:20260511T160000;PT10M;2;POTTSBORO PERDUE vs. BELLS MCCAIN
END:VEVENT
BEGIN:VEVENT
DTSTART:20260514T180000
DTEND:20260514T191500
SUMMARY:LEONARD WREN vs. BELLS MCCAIN
DESCRIPTION:10U SOFTBALL - <br><br><br>Red River Sports Association
LOCATION:LEONARD F1
CATEGORIES:QuickScores; Softball - Fastpitch Game
TRANSP:0
DALARM:20260514T160000;PT10M;2;LEONARD WREN vs. BELLS MCCAIN
END:VEVENT
END:VCALENDAR
