BEGIN:VCALENDAR
VERSION:1.0
BEGIN:VEVENT
DTSTART:20260330T180000
DTEND:20260330T191500
SUMMARY:POTTSBORO WILBURN vs. BELLS CARTER
DESCRIPTION:10U SOFTBALL - <br><br><br>Red River Sports Association
LOCATION:POTTSBORO D
CATEGORIES:QuickScores; Softball - Fastpitch Game
TRANSP:0
DALARM:20260330T160000;PT10M;2;POTTSBORO WILBURN vs. BELLS CARTER
END:VEVENT
BEGIN:VEVENT
DTSTART:20260401T190000
DTEND:20260401T201500
SUMMARY:BELLS LUJAN vs. BELLS CARTER
DESCRIPTION:10U SOFTBALL - <br><br><br>Red River Sports Association
LOCATION:BELLS F3 RODDY
CATEGORIES:QuickScores; Softball - Fastpitch Game
TRANSP:0
DALARM:20260401T170000;PT10M;2;BELLS LUJAN vs. BELLS CARTER
END:VEVENT
BEGIN:VEVENT
DTSTART:20260406T200000
DTEND:20260406T211500
SUMMARY:BELLS CARTER vs. POTTSBORO PERDUE
DESCRIPTION:10U SOFTBALL - <br><br><br>Red River Sports Association
LOCATION:BELLS F3 RODDY
CATEGORIES:QuickScores; Softball - Fastpitch Game
TRANSP:0
DALARM:20260406T180000;PT10M;2;BELLS CARTER vs. POTTSBORO PERDUE
END:VEVENT
BEGIN:VEVENT
DTSTART:20260409T190000
DTEND:20260409T201500
SUMMARY:BELLS CARTER vs. COLLINSVILLE SCHROEDER
DESCRIPTION:10U SOFTBALL - <br><br><br>Red River Sports Association
LOCATION:BELLS F3 RODDY
CATEGORIES:QuickScores; Softball - Fastpitch Game
TRANSP:0
DALARM:20260409T170000;PT10M;2;BELLS CARTER vs. COLLINSVILLE SCHROEDER
END:VEVENT
BEGIN:VEVENT
DTSTART:20260413T200000
DTEND:20260413T211500
SUMMARY:BELLS MCCAIN vs. BELLS CARTER
DESCRIPTION:10U SOFTBALL - <br><br><br>Red River Sports Association
LOCATION:BELLS F3 RODDY
CATEGORIES:QuickScores; Softball - Fastpitch Game
TRANSP:0
DALARM:20260413T180000;PT10M;2;BELLS MCCAIN vs. BELLS CARTER
END:VEVENT
BEGIN:VEVENT
DTSTART:20260416T191500
DTEND:20260416T203000
SUMMARY:WHITEWRIGHT SELMAN vs. BELLS CARTER
DESCRIPTION:10U SOFTBALL - <br><br><br>Red River Sports Association
LOCATION:WW NORTHWEST
CATEGORIES:QuickScores; Softball - Fastpitch Game
TRANSP:0
DALARM:20260416T171500;PT10M;2;WHITEWRIGHT SELMAN vs. BELLS CARTER
END:VEVENT
BEGIN:VEVENT
DTSTART:20260420T203000
DTEND:20260420T214500
SUMMARY:WHITEWRIGHT DOUGLAS vs. BELLS CARTER
DESCRIPTION:10U SOFTBALL - <br><br><br>Red River Sports Association
LOCATION:WW NORTHWEST
CATEGORIES:QuickScores; Softball - Fastpitch Game
TRANSP:0
DALARM:20260420T183000;PT10M;2;WHITEWRIGHT DOUGLAS vs. BELLS CARTER
END:VEVENT
BEGIN:VEVENT
DTSTART:20260423T190000
DTEND:20260423T201500
SUMMARY:LEONARD PEACH vs. BELLS CARTER
DESCRIPTION:10U SOFTBALL - <br><br><br>Red River Sports Association
LOCATION:LEONARD F1
CATEGORIES:QuickScores; Softball - Fastpitch Game
TRANSP:0
DALARM:20260423T170000;PT10M;2;LEONARD PEACH vs. BELLS CARTER
END:VEVENT
BEGIN:VEVENT
DTSTART:20260427T180000
DTEND:20260427T191500
SUMMARY:HOWE PRITCHARD vs. BELLS CARTER
DESCRIPTION:10U SOFTBALL - <br><br><br>Red River Sports Association
LOCATION:HOWE SOUTH
CATEGORIES:QuickScores; Softball - Fastpitch Game
TRANSP:0
DALARM:20260427T160000;PT10M;2;HOWE PRITCHARD vs. BELLS CARTER
END:VEVENT
BEGIN:VEVENT
DTSTART:20260430T191500
DTEND:20260430T203000
SUMMARY:TOM  BEAN YOUNG vs. BELLS CARTER
DESCRIPTION:10U SOFTBALL - <br><br><br>Red River Sports Association
LOCATION:TOM BEAN NORTH
CATEGORIES:QuickScores; Softball - Fastpitch Game
TRANSP:0
DALARM:20260430T171500;PT10M;2;TOM  BEAN YOUNG vs. BELLS CARTER
END:VEVENT
BEGIN:VEVENT
DTSTART:20260504T190000
DTEND:20260504T201500
SUMMARY:TRENTON YONKIN vs. BELLS CARTER
DESCRIPTION:10U SOFTBALL - <br><br><br>Red River Sports Association
LOCATION:TRENTON F1
CATEGORIES:QuickScores; Softball - Fastpitch Game
TRANSP:0
DALARM:20260504T170000;PT10M;2;TRENTON YONKIN vs. BELLS CARTER
END:VEVENT
BEGIN:VEVENT
DTSTART:20260511T180000
DTEND:20260511T191500
SUMMARY:VAN ALSTYNE FUNK vs. BELLS CARTER
DESCRIPTION:10U SOFTBALL - <br><br><br>Red River Sports Association
LOCATION:VA FMP 2
CATEGORIES:QuickScores; Softball - Fastpitch Game
TRANSP:0
DALARM:20260511T160000;PT10M;2;VAN ALSTYNE FUNK vs. BELLS CARTER
END:VEVENT
END:VCALENDAR
