BEGIN:VCALENDAR
VERSION:1.0
BEGIN:VEVENT
DTSTART:20260110T140000
DTEND:20260110T150000
SUMMARY:Dekalb vs. Oregon
DESCRIPTION:7th Grade Boys Travel Basketball - Flagg-Rochelle Community Park District
LOCATION:The REC-Court C
CATEGORIES:QuickScores; Basketball - Youth Game
TRANSP:0
DALARM:20260110T120000;PT10M;2;Dekalb vs. Oregon
END:VEVENT
BEGIN:VEVENT
DTSTART:20260110T160000
DTEND:20260110T170000
SUMMARY:Oregon vs. Sterling Newman
DESCRIPTION:7th Grade Boys Travel Basketball - Flagg-Rochelle Community Park District
LOCATION:The REC-Court C
CATEGORIES:QuickScores; Basketball - Youth Game
TRANSP:0
DALARM:20260110T140000;PT10M;2;Oregon vs. Sterling Newman
END:VEVENT
BEGIN:VEVENT
DTSTART:20260207T150000
DTEND:20260207T160000
SUMMARY:Oregon vs. Mendota
DESCRIPTION:7th Grade Boys Travel Basketball - Flagg-Rochelle Community Park District
LOCATION:The REC-Court C
CATEGORIES:QuickScores; Basketball - Youth Game
TRANSP:0
DALARM:20260207T130000;PT10M;2;Oregon vs. Mendota
END:VEVENT
BEGIN:VEVENT
DTSTART:20260207T160000
DTEND:20260207T170000
SUMMARY:Rochelle vs. Oregon
DESCRIPTION:7th Grade Boys Travel Basketball - Flagg-Rochelle Community Park District
LOCATION:The REC-Court A
CATEGORIES:QuickScores; Basketball - Youth Game
TRANSP:0
DALARM:20260207T140000;PT10M;2;Rochelle vs. Oregon
END:VEVENT
BEGIN:VEVENT
DTSTART:20260221T170000
DTEND:20260221T180000
SUMMARY:Rock Falls vs. Oregon
DESCRIPTION:7th Grade Boys Travel Basketball - Flagg-Rochelle Community Park District
LOCATION:The REC-Court A
CATEGORIES:QuickScores; Basketball - Youth Game
TRANSP:0
DALARM:20260221T150000;PT10M;2;Rock Falls vs. Oregon
END:VEVENT
BEGIN:VEVENT
DTSTART:20260221T180000
DTEND:20260221T190000
SUMMARY:Oregon vs. Amboy
DESCRIPTION:7th Grade Boys Travel Basketball - Flagg-Rochelle Community Park District
LOCATION:The REC-Court A
CATEGORIES:QuickScores; Basketball - Youth Game
TRANSP:0
DALARM:20260221T160000;PT10M;2;Oregon vs. Amboy
END:VEVENT
END:VCALENDAR
