BEGIN:VCALENDAR
VERSION:1.0
BEGIN:VEVENT
DTSTART:20260110T140000
DTEND:20260110T150000
SUMMARY:Dekalb vs. Oregon
DESCRIPTION:7th Grade Boys Travel Basketball - Flagg-Rochelle Community Park District
LOCATION:The REC-Court C
CATEGORIES:QuickScores; Basketball - Youth Game
TRANSP:0
DALARM:20260110T120000;PT10M;2;Dekalb vs. Oregon
END:VEVENT
BEGIN:VEVENT
DTSTART:20260110T150000
DTEND:20260110T160000
SUMMARY:Dekalb vs. Rock Falls
DESCRIPTION:7th Grade Boys Travel Basketball - Flagg-Rochelle Community Park District
LOCATION:The REC-Court C
CATEGORIES:QuickScores; Basketball - Youth Game
TRANSP:0
DALARM:20260110T130000;PT10M;2;Dekalb vs. Rock Falls
END:VEVENT
BEGIN:VEVENT
DTSTART:20260124T170000
DTEND:20260124T180000
SUMMARY:Rochelle vs. Dekalb
DESCRIPTION:7th Grade Boys Travel Basketball - Flagg-Rochelle Community Park District
LOCATION:The REC-Court A
CATEGORIES:QuickScores; Basketball - Youth Game
TRANSP:0
DALARM:20260124T150000;PT10M;2;Rochelle vs. Dekalb
END:VEVENT
BEGIN:VEVENT
DTSTART:20260124T180000
DTEND:20260124T190000
SUMMARY:Genoa Jr. Cogs vs. Dekalb
DESCRIPTION:7th Grade Boys Travel Basketball - Flagg-Rochelle Community Park District
LOCATION:The REC-Court A
CATEGORIES:QuickScores; Basketball - Youth Game
TRANSP:0
DALARM:20260124T160000;PT10M;2;Genoa Jr. Cogs vs. Dekalb
END:VEVENT
BEGIN:VEVENT
DTSTART:20260207T140000
DTEND:20260207T150000
SUMMARY:Mendota vs. Dekalb
DESCRIPTION:7th Grade Boys Travel Basketball - Flagg-Rochelle Community Park District
LOCATION:The REC-Court C
CATEGORIES:QuickScores; Basketball - Youth Game
TRANSP:0
DALARM:20260207T120000;PT10M;2;Mendota vs. Dekalb
END:VEVENT
BEGIN:VEVENT
DTSTART:20260207T160000
DTEND:20260207T170000
SUMMARY:Dekalb vs. Amboy
DESCRIPTION:7th Grade Boys Travel Basketball - Flagg-Rochelle Community Park District
LOCATION:The REC-Court C
CATEGORIES:QuickScores; Basketball - Youth Game
TRANSP:0
DALARM:20260207T140000;PT10M;2;Dekalb vs. Amboy
END:VEVENT
END:VCALENDAR
