BEGIN:VCALENDAR
VERSION:1.0
BEGIN:VEVENT
DTSTART:20260110T140000
DTEND:20260110T150000
SUMMARY:Sterling Newman vs. Mendota
DESCRIPTION:7th Grade Boys Travel Basketball - Flagg-Rochelle Community Park District
LOCATION:The REC-Court A
CATEGORIES:QuickScores; Basketball - Youth Game
TRANSP:0
DALARM:20260110T120000;PT10M;2;Sterling Newman vs. Mendota
END:VEVENT
BEGIN:VEVENT
DTSTART:20260110T160000
DTEND:20260110T170000
SUMMARY:Oregon vs. Sterling Newman
DESCRIPTION:7th Grade Boys Travel Basketball - Flagg-Rochelle Community Park District
LOCATION:The REC-Court C
CATEGORIES:QuickScores; Basketball - Youth Game
TRANSP:0
DALARM:20260110T140000;PT10M;2;Oregon vs. Sterling Newman
END:VEVENT
BEGIN:VEVENT
DTSTART:20260124T180000
DTEND:20260124T190000
SUMMARY:Amboy vs. Sterling Newman
DESCRIPTION:7th Grade Boys Travel Basketball - Flagg-Rochelle Community Park District
LOCATION:The REC-Court C
CATEGORIES:QuickScores; Basketball - Youth Game
TRANSP:0
DALARM:20260124T160000;PT10M;2;Amboy vs. Sterling Newman
END:VEVENT
BEGIN:VEVENT
DTSTART:20260124T190000
DTEND:20260124T200000
SUMMARY:Sterling Newman vs. Rochelle
DESCRIPTION:7th Grade Boys Travel Basketball - Flagg-Rochelle Community Park District
LOCATION:The REC-Court C
CATEGORIES:QuickScores; Basketball - Youth Game
TRANSP:0
DALARM:20260124T170000;PT10M;2;Sterling Newman vs. Rochelle
END:VEVENT
BEGIN:VEVENT
DTSTART:20260221T180000
DTEND:20260221T190000
SUMMARY:Sterling Newman vs. Rock Falls
DESCRIPTION:7th Grade Boys Travel Basketball - Flagg-Rochelle Community Park District
LOCATION:The REC-Court C
CATEGORIES:QuickScores; Basketball - Youth Game
TRANSP:0
DALARM:20260221T160000;PT10M;2;Sterling Newman vs. Rock Falls
END:VEVENT
BEGIN:VEVENT
DTSTART:20260221T190000
DTEND:20260221T200000
SUMMARY:Genoa Jr. Cogs vs. Sterling Newman
DESCRIPTION:7th Grade Boys Travel Basketball - Flagg-Rochelle Community Park District
LOCATION:The REC-Court A
CATEGORIES:QuickScores; Basketball - Youth Game
TRANSP:0
DALARM:20260221T170000;PT10M;2;Genoa Jr. Cogs vs. Sterling Newman
END:VEVENT
BEGIN:VEVENT
DTSTART:20260228T140000
DTEND:20260228T150000
SUMMARY:[2] Sterling Newman vs. [3] Mendota
DESCRIPTION:7th Grade Boys Travel Basketball - Flagg-Rochelle Community Park District
LOCATION:The REC-Court C
CATEGORIES:QuickScores; Basketball - Youth Game
TRANSP:0
DALARM:20260228T120000;PT10M;2;[2] Sterling Newman vs. [3] Mendota
END:VEVENT
END:VCALENDAR
