BEGIN:VCALENDAR
VERSION:1.0
BEGIN:VEVENT
DTSTART:20251026T123000
DTEND:20251026T133000
SUMMARY:Practice: Rams - Prough vs. Jaguars - Archer
DESCRIPTION:3rd/4th Grade REC Flag Football - Flagg-Rochelle Community Park District
LOCATION:The REC- Turf A
CATEGORIES:QuickScores; Flag Football Game
TRANSP:0
DALARM:20251026T103000;PT10M;2;Practice: Rams - Prough vs. Jaguars - Archer
END:VEVENT
BEGIN:VEVENT
DTSTART:20251102T123000
DTEND:20251102T123000
SUMMARY:Practice: Rams - Prough vs. Jaguars - Archer
DESCRIPTION:3rd/4th Grade REC Flag Football - Flagg-Rochelle Community Park District
LOCATION:The REC- Turf A
CATEGORIES:QuickScores; Flag Football Game
TRANSP:0
DALARM:20251102T093000;PT10M;2;Practice: Rams - Prough vs. Jaguars - Archer
END:VEVENT
BEGIN:VEVENT
DTSTART:20251109T123000
DTEND:20251109T133000
SUMMARY:Rams - Prough vs. Jaguars - Archer
DESCRIPTION:3rd/4th Grade REC Flag Football - Flagg-Rochelle Community Park District
LOCATION:The REC- Turf A
CATEGORIES:QuickScores; Flag Football Game
TRANSP:0
DALARM:20251109T103000;PT10M;2;Rams - Prough vs. Jaguars - Archer
END:VEVENT
BEGIN:VEVENT
DTSTART:20251116T123000
DTEND:20251116T133000
SUMMARY:Jaguars - Archer vs. Cowboys - Messer
DESCRIPTION:3rd/4th Grade REC Flag Football - Flagg-Rochelle Community Park District
LOCATION:The REC- Turf A
CATEGORIES:QuickScores; Flag Football Game
TRANSP:0
DALARM:20251116T103000;PT10M;2;Jaguars - Archer vs. Cowboys - Messer
END:VEVENT
BEGIN:VEVENT
DTSTART:20251123T133000
DTEND:20251123T143000
SUMMARY:Bucs - Koch vs. Jaguars - Archer
DESCRIPTION:3rd/4th Grade REC Flag Football - Flagg-Rochelle Community Park District
LOCATION:The REC- Turf A
CATEGORIES:QuickScores; Flag Football Game
TRANSP:0
DALARM:20251123T113000;PT10M;2;Bucs - Koch vs. Jaguars - Archer
END:VEVENT
BEGIN:VEVENT
DTSTART:20251207T133000
DTEND:20251207T143000
SUMMARY:Jaguars - Archer vs. Rams - Prough
DESCRIPTION:3rd/4th Grade REC Flag Football - Flagg-Rochelle Community Park District
LOCATION:The REC- Turf A
CATEGORIES:QuickScores; Flag Football Game
TRANSP:0
DALARM:20251207T113000;PT10M;2;Jaguars - Archer vs. Rams - Prough
END:VEVENT
BEGIN:VEVENT
DTSTART:20251214T133000
DTEND:20251214T143000
SUMMARY:Cowboys - Messer vs. Jaguars - Archer
DESCRIPTION:3rd/4th Grade REC Flag Football - Flagg-Rochelle Community Park District
LOCATION:The REC- Turf A
CATEGORIES:QuickScores; Flag Football Game
TRANSP:0
DALARM:20251214T113000;PT10M;2;Cowboys - Messer vs. Jaguars - Archer
END:VEVENT
BEGIN:VEVENT
DTSTART:20251221T123000
DTEND:20251221T133000
SUMMARY:Jaguars - Archer vs. Bucs - Koch
DESCRIPTION:3rd/4th Grade REC Flag Football - Flagg-Rochelle Community Park District
LOCATION:The REC- Turf A
CATEGORIES:QuickScores; Flag Football Game
TRANSP:0
DALARM:20251221T103000;PT10M;2;Jaguars - Archer vs. Bucs - Koch
END:VEVENT
END:VCALENDAR
