BEGIN:VCALENDAR
VERSION:1.0
BEGIN:VEVENT
DTSTART:20251026T133000
DTEND:20251026T143000
SUMMARY:Practice: Cowboys - Messer vs. Bucs - Koch
DESCRIPTION:3rd/4th Grade REC Flag Football - Flagg-Rochelle Community Park District
LOCATION:The REC- Turf A
CATEGORIES:QuickScores; Flag Football Game
TRANSP:0
DALARM:20251026T113000;PT10M;2;Practice: Cowboys - Messer vs. Bucs - Koch
END:VEVENT
BEGIN:VEVENT
DTSTART:20251102T133000
DTEND:20251102T133000
SUMMARY:Practice: Cowboys - Messer vs. Bucs - Koch
DESCRIPTION:3rd/4th Grade REC Flag Football - Flagg-Rochelle Community Park District
LOCATION:The REC- Turf A
CATEGORIES:QuickScores; Flag Football Game
TRANSP:0
DALARM:20251102T103000;PT10M;2;Practice: Cowboys - Messer vs. Bucs - Koch
END:VEVENT
BEGIN:VEVENT
DTSTART:20251109T133000
DTEND:20251109T143000
SUMMARY:Bucs - Koch vs. Cowboys - Messer
DESCRIPTION:3rd/4th Grade REC Flag Football - Flagg-Rochelle Community Park District
LOCATION:The REC- Turf A
CATEGORIES:QuickScores; Flag Football Game
TRANSP:0
DALARM:20251109T113000;PT10M;2;Bucs - Koch vs. Cowboys - Messer
END:VEVENT
BEGIN:VEVENT
DTSTART:20251116T133000
DTEND:20251116T143000
SUMMARY:Bucs - Koch vs. Rams - Prough
DESCRIPTION:3rd/4th Grade REC Flag Football - Flagg-Rochelle Community Park District
LOCATION:The REC- Turf A
CATEGORIES:QuickScores; Flag Football Game
TRANSP:0
DALARM:20251116T113000;PT10M;2;Bucs - Koch vs. Rams - Prough
END:VEVENT
BEGIN:VEVENT
DTSTART:20251123T133000
DTEND:20251123T143000
SUMMARY:Bucs - Koch vs. Jaguars - Archer
DESCRIPTION:3rd/4th Grade REC Flag Football - Flagg-Rochelle Community Park District
LOCATION:The REC- Turf A
CATEGORIES:QuickScores; Flag Football Game
TRANSP:0
DALARM:20251123T113000;PT10M;2;Bucs - Koch vs. Jaguars - Archer
END:VEVENT
BEGIN:VEVENT
DTSTART:20251207T123000
DTEND:20251207T133000
SUMMARY:Cowboys - Messer vs. Bucs - Koch
DESCRIPTION:3rd/4th Grade REC Flag Football - Flagg-Rochelle Community Park District
LOCATION:The REC- Turf A
CATEGORIES:QuickScores; Flag Football Game
TRANSP:0
DALARM:20251207T103000;PT10M;2;Cowboys - Messer vs. Bucs - Koch
END:VEVENT
BEGIN:VEVENT
DTSTART:20251214T123000
DTEND:20251214T133000
SUMMARY:Rams - Prough vs. Bucs - Koch
DESCRIPTION:3rd/4th Grade REC Flag Football - Flagg-Rochelle Community Park District
LOCATION:The REC- Turf A
CATEGORIES:QuickScores; Flag Football Game
TRANSP:0
DALARM:20251214T103000;PT10M;2;Rams - Prough vs. Bucs - Koch
END:VEVENT
BEGIN:VEVENT
DTSTART:20251221T123000
DTEND:20251221T133000
SUMMARY:Jaguars - Archer vs. Bucs - Koch
DESCRIPTION:3rd/4th Grade REC Flag Football - Flagg-Rochelle Community Park District
LOCATION:The REC- Turf A
CATEGORIES:QuickScores; Flag Football Game
TRANSP:0
DALARM:20251221T103000;PT10M;2;Jaguars - Archer vs. Bucs - Koch
END:VEVENT
END:VCALENDAR
