BEGIN:VCALENDAR
VERSION:1.0
BEGIN:VEVENT
DTSTART:20260503T090000
DTEND:20260503T100000
SUMMARY:Big Ol' Hitties vs. Wingmen
DESCRIPTION:Divisions 1 & 2 - RCSL
LOCATION:Hank Soar 3
CATEGORIES:QuickScores; Softball - Adult Game
TRANSP:0
DALARM:20260503T070000;PT10M;2;Big Ol' Hitties vs. Wingmen
END:VEVENT
BEGIN:VEVENT
DTSTART:20260503T110000
DTEND:20260503T120000
SUMMARY:Big Ol' Hitties vs. Bad News
DESCRIPTION:Divisions 1 & 2 - RCSL
LOCATION:Hank Soar 2
CATEGORIES:QuickScores; Softball - Adult Game
TRANSP:0
DALARM:20260503T090000;PT10M;2;Big Ol' Hitties vs. Bad News
END:VEVENT
BEGIN:VEVENT
DTSTART:20260517T100000
DTEND:20260517T110000
SUMMARY:Cruisers vs. Big Ol' Hitties
DESCRIPTION:Divisions 1 & 2 - RCSL
LOCATION:Hank Soar 2
CATEGORIES:QuickScores; Softball - Adult Game
TRANSP:0
DALARM:20260517T080000;PT10M;2;Cruisers vs. Big Ol' Hitties
END:VEVENT
BEGIN:VEVENT
DTSTART:20260517T120000
DTEND:20260517T130000
SUMMARY:Big Ol' Hitties vs. Wingmen
DESCRIPTION:Divisions 1 & 2 - RCSL
LOCATION:Hank Soar 1
CATEGORIES:QuickScores; Softball - Adult Game
TRANSP:0
DALARM:20260517T100000;PT10M;2;Big Ol' Hitties vs. Wingmen
END:VEVENT
BEGIN:VEVENT
DTSTART:20260531T090000
DTEND:20260531T100000
SUMMARY:Big Ol' Hitties vs. Renegades
DESCRIPTION:Divisions 1 & 2 - RCSL
LOCATION:Hank Soar 3
CATEGORIES:QuickScores; Softball - Adult Game
TRANSP:0
DALARM:20260531T070000;PT10M;2;Big Ol' Hitties vs. Renegades
END:VEVENT
BEGIN:VEVENT
DTSTART:20260531T100000
DTEND:20260531T110000
SUMMARY:Big Ol' Hitties vs. Critical Hits
DESCRIPTION:Divisions 1 & 2 - RCSL
LOCATION:Hank Soar 3
CATEGORIES:QuickScores; Softball - Adult Game
TRANSP:0
DALARM:20260531T080000;PT10M;2;Big Ol' Hitties vs. Critical Hits
END:VEVENT
BEGIN:VEVENT
DTSTART:20260607T090000
DTEND:20260607T100000
SUMMARY:Big Ol' Hitties vs. Hustlers
DESCRIPTION:Divisions 1 & 2 - RCSL
LOCATION:Hank Soar 1
CATEGORIES:QuickScores; Softball - Adult Game
TRANSP:0
DALARM:20260607T070000;PT10M;2;Big Ol' Hitties vs. Hustlers
END:VEVENT
BEGIN:VEVENT
DTSTART:20260607T110000
DTEND:20260607T120000
SUMMARY:Big Ol' Hitties vs. Wingmen
DESCRIPTION:Divisions 1 & 2 - RCSL
LOCATION:Hank Soar 1
CATEGORIES:QuickScores; Softball - Adult Game
TRANSP:0
DALARM:20260607T090000;PT10M;2;Big Ol' Hitties vs. Wingmen
END:VEVENT
BEGIN:VEVENT
DTSTART:20260614T090000
DTEND:20260614T100000
SUMMARY:Spartans vs. Big Ol' Hitties
DESCRIPTION:Divisions 1 & 2 - RCSL
LOCATION:Hank Soar 2
CATEGORIES:QuickScores; Softball - Adult Game
TRANSP:0
DALARM:20260614T070000;PT10M;2;Spartans vs. Big Ol' Hitties
END:VEVENT
BEGIN:VEVENT
DTSTART:20260614T100000
DTEND:20260614T110000
SUMMARY:Bad News vs. Big Ol' Hitties
DESCRIPTION:Divisions 1 & 2 - RCSL
LOCATION:Hank Soar 3
CATEGORIES:QuickScores; Softball - Adult Game
TRANSP:0
DALARM:20260614T080000;PT10M;2;Bad News vs. Big Ol' Hitties
END:VEVENT
BEGIN:VEVENT
DTSTART:20260628T120000
DTEND:20260628T130000
SUMMARY:Spartans vs. Big Ol' Hitties
DESCRIPTION:Divisions 1 & 2 - RCSL
LOCATION:Hank Soar 2
CATEGORIES:QuickScores; Softball - Adult Game
TRANSP:0
DALARM:20260628T100000;PT10M;2;Spartans vs. Big Ol' Hitties
END:VEVENT
BEGIN:VEVENT
DTSTART:20260628T130000
DTEND:20260628T140000
SUMMARY:Critical Hits vs. Big Ol' Hitties
DESCRIPTION:Divisions 1 & 2 - RCSL
LOCATION:Hank Soar 2
CATEGORIES:QuickScores; Softball - Adult Game
TRANSP:0
DALARM:20260628T110000;PT10M;2;Critical Hits vs. Big Ol' Hitties
END:VEVENT
BEGIN:VEVENT
DTSTART:20260712T090000
DTEND:20260712T100000
SUMMARY:Big Ol' Hitties vs. Critical Hits
DESCRIPTION:Divisions 1 & 2 - RCSL
LOCATION:Hank Soar 2
CATEGORIES:QuickScores; Softball - Adult Game
TRANSP:0
DALARM:20260712T070000;PT10M;2;Big Ol' Hitties vs. Critical Hits
END:VEVENT
BEGIN:VEVENT
DTSTART:20260712T100000
DTEND:20260712T110000
SUMMARY:Riptide vs. Big Ol' Hitties
DESCRIPTION:Divisions 1 & 2 - RCSL
LOCATION:Hank Soar 2
CATEGORIES:QuickScores; Softball - Adult Game
TRANSP:0
DALARM:20260712T080000;PT10M;2;Riptide vs. Big Ol' Hitties
END:VEVENT
BEGIN:VEVENT
DTSTART:20260719T120000
DTEND:20260719T130000
SUMMARY:Spartans vs. Big Ol' Hitties
DESCRIPTION:Divisions 1 & 2 - RCSL
LOCATION:Hank Soar 1
CATEGORIES:QuickScores; Softball - Adult Game
TRANSP:0
DALARM:20260719T100000;PT10M;2;Spartans vs. Big Ol' Hitties
END:VEVENT
BEGIN:VEVENT
DTSTART:20260719T130000
DTEND:20260719T140000
SUMMARY:Wingmen vs. Big Ol' Hitties
DESCRIPTION:Divisions 1 & 2 - RCSL
LOCATION:Hank Soar 2
CATEGORIES:QuickScores; Softball - Adult Game
TRANSP:0
DALARM:20260719T110000;PT10M;2;Wingmen vs. Big Ol' Hitties
END:VEVENT
BEGIN:VEVENT
DTSTART:20260726T090000
DTEND:20260726T100000
SUMMARY:Big Ol' Hitties vs. Critical Hits
DESCRIPTION:Divisions 1 & 2 - RCSL
LOCATION:Hank Soar 3
CATEGORIES:QuickScores; Softball - Adult Game
TRANSP:0
DALARM:20260726T070000;PT10M;2;Big Ol' Hitties vs. Critical Hits
END:VEVENT
BEGIN:VEVENT
DTSTART:20260726T100000
DTEND:20260726T110000
SUMMARY:Wingmen vs. Big Ol' Hitties
DESCRIPTION:Divisions 1 & 2 - RCSL
LOCATION:Hank Soar 3
CATEGORIES:QuickScores; Softball - Adult Game
TRANSP:0
DALARM:20260726T080000;PT10M;2;Wingmen vs. Big Ol' Hitties
END:VEVENT
BEGIN:VEVENT
DTSTART:20260802T120000
DTEND:20260802T130000
SUMMARY:Big Ol' Hitties vs. Spartans
DESCRIPTION:Divisions 1 & 2 - RCSL
LOCATION:Hank Soar 2
CATEGORIES:QuickScores; Softball - Adult Game
TRANSP:0
DALARM:20260802T100000;PT10M;2;Big Ol' Hitties vs. Spartans
END:VEVENT
BEGIN:VEVENT
DTSTART:20260802T130000
DTEND:20260802T140000
SUMMARY:Bad News vs. Big Ol' Hitties
DESCRIPTION:Divisions 1 & 2 - RCSL
LOCATION:Hank Soar 2
CATEGORIES:QuickScores; Softball - Adult Game
TRANSP:0
DALARM:20260802T110000;PT10M;2;Bad News vs. Big Ol' Hitties
END:VEVENT
BEGIN:VEVENT
DTSTART:20260809T100000
DTEND:20260809T110000
SUMMARY:Bad News vs. Big Ol' Hitties
DESCRIPTION:Divisions 1 & 2 - RCSL
LOCATION:Hank Soar 3
CATEGORIES:QuickScores; Softball - Adult Game
TRANSP:0
DALARM:20260809T080000;PT10M;2;Bad News vs. Big Ol' Hitties
END:VEVENT
BEGIN:VEVENT
DTSTART:20260809T110000
DTEND:20260809T120000
SUMMARY:Big Ol' Hitties vs. Critical Hits
DESCRIPTION:Divisions 1 & 2 - RCSL
LOCATION:Hank Soar 3
CATEGORIES:QuickScores; Softball - Adult Game
TRANSP:0
DALARM:20260809T090000;PT10M;2;Big Ol' Hitties vs. Critical Hits
END:VEVENT
END:VCALENDAR
