BEGIN:VCALENDAR
VERSION:1.0
BEGIN:VEVENT
DTSTART:20260413T194000
DTEND:20260413T202000
SUMMARY:Scrivner/Mayr vs. Harwood/Hudson
DESCRIPTION:DDTC - Monday Rec. Lg. - Early Spring 2026 - Paddle Up Pickleball Club
LOCATION:DDTC Court 12S
CATEGORIES:QuickScores; Pickleball Game
TRANSP:0
DALARM:20260413T174000;PT10M;2;Scrivner/Mayr vs. Harwood/Hudson
END:VEVENT
BEGIN:VEVENT
DTSTART:20260413T202000
DTEND:20260413T210000
SUMMARY:Harwood/Hudson vs. Borrowman/Miller
DESCRIPTION:DDTC - Monday Rec. Lg. - Early Spring 2026 - Paddle Up Pickleball Club
LOCATION:DDTC Court 12S
CATEGORIES:QuickScores; Pickleball Game
TRANSP:0
DALARM:20260413T182000;PT10M;2;Harwood/Hudson vs. Borrowman/Miller
END:VEVENT
BEGIN:VEVENT
DTSTART:20260420T200000
DTEND:20260420T204000
SUMMARY:Harwood/Hudson vs. Blake/Murphy
DESCRIPTION:DDTC - Monday Rec. Lg. - Early Spring 2026 - Paddle Up Pickleball Club
LOCATION:DDTC Court 12S
CATEGORIES:QuickScores; Pickleball Game
TRANSP:0
DALARM:20260420T180000;PT10M;2;Harwood/Hudson vs. Blake/Murphy
END:VEVENT
BEGIN:VEVENT
DTSTART:20260420T204000
DTEND:20260420T212000
SUMMARY:Carlton/Campbell vs. Harwood/Hudson
DESCRIPTION:DDTC - Monday Rec. Lg. - Early Spring 2026 - Paddle Up Pickleball Club
LOCATION:DDTC Court 13N
CATEGORIES:QuickScores; Pickleball Game
TRANSP:0
DALARM:20260420T184000;PT10M;2;Carlton/Campbell vs. Harwood/Hudson
END:VEVENT
BEGIN:VEVENT
DTSTART:20260427T202000
DTEND:20260427T210000
SUMMARY:Fisher/Harmon vs. Harwood/Hudson
DESCRIPTION:DDTC - Monday Rec. Lg. - Early Spring 2026 - Paddle Up Pickleball Club
LOCATION:DDTC Court 14N
CATEGORIES:QuickScores; Pickleball Game
TRANSP:0
DALARM:20260427T182000;PT10M;2;Fisher/Harmon vs. Harwood/Hudson
END:VEVENT
BEGIN:VEVENT
DTSTART:20260427T210000
DTEND:20260427T214000
SUMMARY:Seal/Coleman vs. Harwood/Hudson
DESCRIPTION:DDTC - Monday Rec. Lg. - Early Spring 2026 - Paddle Up Pickleball Club
LOCATION:DDTC Court 12N
CATEGORIES:QuickScores; Pickleball Game
TRANSP:0
DALARM:20260427T190000;PT10M;2;Seal/Coleman vs. Harwood/Hudson
END:VEVENT
BEGIN:VEVENT
DTSTART:20260504T190000
DTEND:20260504T194000
SUMMARY:Harwood/Hudson vs. Scrivner/Mayr
DESCRIPTION:DDTC - Monday Rec. Lg. - Early Spring 2026 - Paddle Up Pickleball Club
LOCATION:DDTC Court 11S
CATEGORIES:QuickScores; Pickleball Game
TRANSP:0
DALARM:20260504T170000;PT10M;2;Harwood/Hudson vs. Scrivner/Mayr
END:VEVENT
BEGIN:VEVENT
DTSTART:20260504T194000
DTEND:20260504T202000
SUMMARY:Carlton/Campbell vs. Harwood/Hudson
DESCRIPTION:DDTC - Monday Rec. Lg. - Early Spring 2026 - Paddle Up Pickleball Club
LOCATION:DDTC Court 12S
CATEGORIES:QuickScores; Pickleball Game
TRANSP:0
DALARM:20260504T174000;PT10M;2;Carlton/Campbell vs. Harwood/Hudson
END:VEVENT
END:VCALENDAR
