BEGIN:VCALENDAR
VERSION:1.0
BEGIN:VEVENT
DTSTART:20260407T184000
DTEND:20260407T192000
SUMMARY:Hoffman/Corrigan vs. Empson/Empson
DESCRIPTION:FMG Tuesday Rec  League - Early Spring 2026 (recovered) - Paddle Up Pickleball Club
LOCATION:FMG Court 3
CATEGORIES:QuickScores; Pickleball Game
TRANSP:0
DALARM:20260407T164000;PT10M;2;Hoffman/Corrigan vs. Empson/Empson
END:VEVENT
BEGIN:VEVENT
DTSTART:20260407T200000
DTEND:20260407T204000
SUMMARY:Hoffman/Corrigan vs. Sosnowski/Sosnowski
DESCRIPTION:FMG Tuesday Rec  League - Early Spring 2026 (recovered) - Paddle Up Pickleball Club
LOCATION:FMG Court 1
CATEGORIES:QuickScores; Pickleball Game
TRANSP:0
DALARM:20260407T180000;PT10M;2;Hoffman/Corrigan vs. Sosnowski/Sosnowski
END:VEVENT
BEGIN:VEVENT
DTSTART:20260414T184000
DTEND:20260414T192000
SUMMARY:Curran/Curran vs. Hoffman/Corrigan
DESCRIPTION:FMG Tuesday Rec  League - Early Spring 2026 (recovered) - Paddle Up Pickleball Club
LOCATION:FMG Court 3
CATEGORIES:QuickScores; Pickleball Game
TRANSP:0
DALARM:20260414T164000;PT10M;2;Curran/Curran vs. Hoffman/Corrigan
END:VEVENT
BEGIN:VEVENT
DTSTART:20260414T200000
DTEND:20260414T204000
SUMMARY:Hoffman/Corrigan vs. Pund/Benedick
DESCRIPTION:FMG Tuesday Rec  League - Early Spring 2026 (recovered) - Paddle Up Pickleball Club
LOCATION:FMG Court 5
CATEGORIES:QuickScores; Pickleball Game
TRANSP:0
DALARM:20260414T180000;PT10M;2;Hoffman/Corrigan vs. Pund/Benedick
END:VEVENT
BEGIN:VEVENT
DTSTART:20260421T180000
DTEND:20260421T184000
SUMMARY:Hoffman/Corrigan vs. Sosnowski/Sosnowski
DESCRIPTION:FMG Tuesday Rec  League - Early Spring 2026 (recovered) - Paddle Up Pickleball Club
LOCATION:FMG Court 4
CATEGORIES:QuickScores; Pickleball Game
TRANSP:0
DALARM:20260421T160000;PT10M;2;Hoffman/Corrigan vs. Sosnowski/Sosnowski
END:VEVENT
BEGIN:VEVENT
DTSTART:20260421T192000
DTEND:20260421T200000
SUMMARY:Steinbeck/Smegner vs. Hoffman/Corrigan
DESCRIPTION:FMG Tuesday Rec  League - Early Spring 2026 (recovered) - Paddle Up Pickleball Club
LOCATION:FMG Court 6
CATEGORIES:QuickScores; Pickleball Game
TRANSP:0
DALARM:20260421T172000;PT10M;2;Steinbeck/Smegner vs. Hoffman/Corrigan
END:VEVENT
BEGIN:VEVENT
DTSTART:20260428T180000
DTEND:20260428T184000
SUMMARY:Hoffman/Corrigan vs. Empson/Empson
DESCRIPTION:FMG Tuesday Rec  League - Early Spring 2026 (recovered) - Paddle Up Pickleball Club
LOCATION:FMG Court 5
CATEGORIES:QuickScores; Pickleball Game
TRANSP:0
DALARM:20260428T160000;PT10M;2;Hoffman/Corrigan vs. Empson/Empson
END:VEVENT
BEGIN:VEVENT
DTSTART:20260428T184000
DTEND:20260428T192000
SUMMARY:Walker/Walker vs. Hoffman/Corrigan
DESCRIPTION:FMG Tuesday Rec  League - Early Spring 2026 (recovered) - Paddle Up Pickleball Club
LOCATION:FMG Court 3
CATEGORIES:QuickScores; Pickleball Game
TRANSP:0
DALARM:20260428T164000;PT10M;2;Walker/Walker vs. Hoffman/Corrigan
END:VEVENT
BEGIN:VEVENT
DTSTART:20260505T180000
DTEND:20260505T184000
SUMMARY:Krueger/Howard vs. Hoffman/Corrigan
DESCRIPTION:FMG Tuesday Rec  League - Early Spring 2026 (recovered) - Paddle Up Pickleball Club
LOCATION:FMG Court 6
CATEGORIES:QuickScores; Pickleball Game
TRANSP:0
DALARM:20260505T160000;PT10M;2;Krueger/Howard vs. Hoffman/Corrigan
END:VEVENT
BEGIN:VEVENT
DTSTART:20260505T192000
DTEND:20260505T200000
SUMMARY:Hoffman/Corrigan vs. Lemery/Black
DESCRIPTION:FMG Tuesday Rec  League - Early Spring 2026 (recovered) - Paddle Up Pickleball Club
LOCATION:FMG Court 4
CATEGORIES:QuickScores; Pickleball Game
TRANSP:0
DALARM:20260505T172000;PT10M;2;Hoffman/Corrigan vs. Lemery/Black
END:VEVENT
END:VCALENDAR
