BEGIN:VCALENDAR
VERSION:1.0
BEGIN:VEVENT
DTSTART:20260406T202000
DTEND:20260406T210000
SUMMARY:Blake/Murphy vs. Borrowman/Miller
DESCRIPTION:DDTC - Monday Rec. Lg. - Early Spring 2026 - Paddle Up Pickleball Club
LOCATION:DDTC Court 12S
CATEGORIES:QuickScores; Pickleball Game
TRANSP:0
DALARM:20260406T182000;PT10M;2;Blake/Murphy vs. Borrowman/Miller
END:VEVENT
BEGIN:VEVENT
DTSTART:20260406T210000
DTEND:20260406T214000
SUMMARY:Borrowman/Miller vs. Scrivner/Mayr
DESCRIPTION:DDTC - Monday Rec. Lg. - Early Spring 2026 - Paddle Up Pickleball Club
LOCATION:DDTC Court 12S
CATEGORIES:QuickScores; Pickleball Game
TRANSP:0
DALARM:20260406T190000;PT10M;2;Borrowman/Miller vs. Scrivner/Mayr
END:VEVENT
BEGIN:VEVENT
DTSTART:20260413T190000
DTEND:20260413T194000
SUMMARY:Carlton/Campbell vs. Borrowman/Miller
DESCRIPTION:DDTC - Monday Rec. Lg. - Early Spring 2026 - Paddle Up Pickleball Club
LOCATION:DDTC Court 12N
CATEGORIES:QuickScores; Pickleball Game
TRANSP:0
DALARM:20260413T170000;PT10M;2;Carlton/Campbell vs. Borrowman/Miller
END:VEVENT
BEGIN:VEVENT
DTSTART:20260413T202000
DTEND:20260413T210000
SUMMARY:Harwood/Hudson vs. Borrowman/Miller
DESCRIPTION:DDTC - Monday Rec. Lg. - Early Spring 2026 - Paddle Up Pickleball Club
LOCATION:DDTC Court 12S
CATEGORIES:QuickScores; Pickleball Game
TRANSP:0
DALARM:20260413T182000;PT10M;2;Harwood/Hudson vs. Borrowman/Miller
END:VEVENT
BEGIN:VEVENT
DTSTART:20260420T200000
DTEND:20260420T204000
SUMMARY:Scrivner/Mayr vs. Borrowman/Miller
DESCRIPTION:DDTC - Monday Rec. Lg. - Early Spring 2026 - Paddle Up Pickleball Club
LOCATION:DDTC Court 13N
CATEGORIES:QuickScores; Pickleball Game
TRANSP:0
DALARM:20260420T180000;PT10M;2;Scrivner/Mayr vs. Borrowman/Miller
END:VEVENT
BEGIN:VEVENT
DTSTART:20260420T204000
DTEND:20260420T212000
SUMMARY:Blake/Murphy vs. Borrowman/Miller
DESCRIPTION:DDTC - Monday Rec. Lg. - Early Spring 2026 - Paddle Up Pickleball Club
LOCATION:DDTC Court 12S
CATEGORIES:QuickScores; Pickleball Game
TRANSP:0
DALARM:20260420T184000;PT10M;2;Blake/Murphy vs. Borrowman/Miller
END:VEVENT
BEGIN:VEVENT
DTSTART:20260427T194000
DTEND:20260427T202000
SUMMARY:Borrowman/Miller vs. Monsky/Schulz
DESCRIPTION:DDTC - Monday Rec. Lg. - Early Spring 2026 - Paddle Up Pickleball Club
LOCATION:DDTC Court 11S
CATEGORIES:QuickScores; Pickleball Game
TRANSP:0
DALARM:20260427T174000;PT10M;2;Borrowman/Miller vs. Monsky/Schulz
END:VEVENT
BEGIN:VEVENT
DTSTART:20260427T202000
DTEND:20260427T210000
SUMMARY:Borrowman/Miller vs. Scrivner/Mayr
DESCRIPTION:DDTC - Monday Rec. Lg. - Early Spring 2026 - Paddle Up Pickleball Club
LOCATION:DDTC Court 12S
CATEGORIES:QuickScores; Pickleball Game
TRANSP:0
DALARM:20260427T182000;PT10M;2;Borrowman/Miller vs. Scrivner/Mayr
END:VEVENT
BEGIN:VEVENT
DTSTART:20260504T202000
DTEND:20260504T210000
SUMMARY:Borrowman/Miller vs. Carlton/Campbell
DESCRIPTION:DDTC - Monday Rec. Lg. - Early Spring 2026 - Paddle Up Pickleball Club
LOCATION:DDTC Court 13N
CATEGORIES:QuickScores; Pickleball Game
TRANSP:0
DALARM:20260504T182000;PT10M;2;Borrowman/Miller vs. Carlton/Campbell
END:VEVENT
BEGIN:VEVENT
DTSTART:20260504T210000
DTEND:20260504T214000
SUMMARY:Blake/Murphy vs. Borrowman/Miller
DESCRIPTION:DDTC - Monday Rec. Lg. - Early Spring 2026 - Paddle Up Pickleball Club
LOCATION:DDTC Court 12S
CATEGORIES:QuickScores; Pickleball Game
TRANSP:0
DALARM:20260504T190000;PT10M;2;Blake/Murphy vs. Borrowman/Miller
END:VEVENT
END:VCALENDAR
