BEGIN:VCALENDAR
VERSION:1.0
BEGIN:VEVENT
DTSTART:20260401T180000
DTEND:20260401T184000
SUMMARY:jarrett/luke/amy/johnny vs. jules/matt/molly/cindy
DESCRIPTION:Quincy Wednesday Spring Squads League 2026 - Paddle Up Pickleball Club
LOCATION:Quincy Court 1
CATEGORIES:QuickScores; Pickleball Game
TRANSP:0
DALARM:20260401T160000;PT10M;2;jarrett/luke/amy/johnny vs. jules/matt/molly/cindy
END:VEVENT
BEGIN:VEVENT
DTSTART:20260401T200000
DTEND:20260401T204000
SUMMARY:Carter/Kathy/Justin/Shelly vs. jarrett/luke/amy/johnny
DESCRIPTION:Quincy Wednesday Spring Squads League 2026 - Paddle Up Pickleball Club
LOCATION:Quincy Court 1
CATEGORIES:QuickScores; Pickleball Game
TRANSP:0
DALARM:20260401T180000;PT10M;2;Carter/Kathy/Justin/Shelly vs. jarrett/luke/amy/johnny
END:VEVENT
BEGIN:VEVENT
DTSTART:20260408T180000
DTEND:20260408T184000
SUMMARY:jules/matt/molly/cindy vs. jarrett/luke/amy/johnny
DESCRIPTION:Quincy Wednesday Spring Squads League 2026 - Paddle Up Pickleball Club
LOCATION:Quincy Court 2
CATEGORIES:QuickScores; Pickleball Game
TRANSP:0
DALARM:20260408T160000;PT10M;2;jules/matt/molly/cindy vs. jarrett/luke/amy/johnny
END:VEVENT
BEGIN:VEVENT
DTSTART:20260408T200000
DTEND:20260408T204000
SUMMARY:drew/Quang/TomB/TomN vs. jarrett/luke/amy/johnny
DESCRIPTION:Quincy Wednesday Spring Squads League 2026 - Paddle Up Pickleball Club
LOCATION:Quincy Court 2
CATEGORIES:QuickScores; Pickleball Game
TRANSP:0
DALARM:20260408T180000;PT10M;2;drew/Quang/TomB/TomN vs. jarrett/luke/amy/johnny
END:VEVENT
BEGIN:VEVENT
DTSTART:20260415T180000
DTEND:20260415T184000
SUMMARY:jarrett/luke/amy/johnny vs. Carter/Kathy/Justin/Shelly
DESCRIPTION:Quincy Wednesday Spring Squads League 2026 - Paddle Up Pickleball Club
LOCATION:Quincy Court 1
CATEGORIES:QuickScores; Pickleball Game
TRANSP:0
DALARM:20260415T160000;PT10M;2;jarrett/luke/amy/johnny vs. Carter/Kathy/Justin/Shelly
END:VEVENT
BEGIN:VEVENT
DTSTART:20260415T200000
DTEND:20260415T204000
SUMMARY:jarrett/luke/amy/johnny vs. drew/Quang/TomB/TomN
DESCRIPTION:Quincy Wednesday Spring Squads League 2026 - Paddle Up Pickleball Club
LOCATION:Quincy Court 1
CATEGORIES:QuickScores; Pickleball Game
TRANSP:0
DALARM:20260415T180000;PT10M;2;jarrett/luke/amy/johnny vs. drew/Quang/TomB/TomN
END:VEVENT
BEGIN:VEVENT
DTSTART:20260422T180000
DTEND:20260422T184000
SUMMARY:jarrett/luke/amy/johnny vs. jules/matt/molly/cindy
DESCRIPTION:Quincy Wednesday Spring Squads League 2026 - Paddle Up Pickleball Club
LOCATION:Quincy Court 2
CATEGORIES:QuickScores; Pickleball Game
TRANSP:0
DALARM:20260422T160000;PT10M;2;jarrett/luke/amy/johnny vs. jules/matt/molly/cindy
END:VEVENT
BEGIN:VEVENT
DTSTART:20260422T200000
DTEND:20260422T204000
SUMMARY:Carter/Kathy/Justin/Shelly vs. jarrett/luke/amy/johnny
DESCRIPTION:Quincy Wednesday Spring Squads League 2026 - Paddle Up Pickleball Club
LOCATION:Quincy Court 2
CATEGORIES:QuickScores; Pickleball Game
TRANSP:0
DALARM:20260422T180000;PT10M;2;Carter/Kathy/Justin/Shelly vs. jarrett/luke/amy/johnny
END:VEVENT
END:VCALENDAR
