BEGIN:VCALENDAR
VERSION:1.0
BEGIN:VEVENT
DTSTART:20260219T110000
DTEND:20260219T114000
SUMMARY:JennD/WhitneyD/DianeM/NancyP vs. AmyS/CarynL/GwenB/PamA
DESCRIPTION:LSL PUPC Ladies 40+ Squads League - Late Winter - Paddle Up Pickleball Club
LOCATION:Court 1
CATEGORIES:QuickScores; Pickleball Game
TRANSP:0
DALARM:20260219T090000;PT10M;2;JennD/WhitneyD/DianeM/NancyP vs. AmyS/CarynL/GwenB/PamA
END:VEVENT
BEGIN:VEVENT
DTSTART:20260219T120000
DTEND:20260219T124000
SUMMARY:LoriG/RachelL/BrendaA/AggieS vs. AmyS/CarynL/GwenB/PamA
DESCRIPTION:LSL PUPC Ladies 40+ Squads League - Late Winter - Paddle Up Pickleball Club
LOCATION:Court 1
CATEGORIES:QuickScores; Pickleball Game
TRANSP:0
DALARM:20260219T100000;PT10M;2;LoriG/RachelL/BrendaA/AggieS vs. AmyS/CarynL/GwenB/PamA
END:VEVENT
BEGIN:VEVENT
DTSTART:20260226T110000
DTEND:20260226T114000
SUMMARY:LauraS/LisaL/DebbieK/LauraS vs. AmyS/CarynL/GwenB/PamA
DESCRIPTION:LSL PUPC Ladies 40+ Squads League - Late Winter - Paddle Up Pickleball Club
LOCATION:Court 4
CATEGORIES:QuickScores; Pickleball Game
TRANSP:0
DALARM:20260226T090000;PT10M;2;LauraS/LisaL/DebbieK/LauraS vs. AmyS/CarynL/GwenB/PamA
END:VEVENT
BEGIN:VEVENT
DTSTART:20260226T120000
DTEND:20260226T124000
SUMMARY:AmyS/CarynL/GwenB/PamA vs. RekhaB/BettyB/ChrisM/MaggieU
DESCRIPTION:LSL PUPC Ladies 40+ Squads League - Late Winter - Paddle Up Pickleball Club
LOCATION:Court 4
CATEGORIES:QuickScores; Pickleball Game
TRANSP:0
DALARM:20260226T100000;PT10M;2;AmyS/CarynL/GwenB/PamA vs. RekhaB/BettyB/ChrisM/MaggieU
END:VEVENT
BEGIN:VEVENT
DTSTART:20260305T110000
DTEND:20260305T114000
SUMMARY:AmyS/CarynL/GwenB/PamA vs. LoriG/RachelL/BrendaA/AggieS
DESCRIPTION:LSL PUPC Ladies 40+ Squads League - Late Winter - Paddle Up Pickleball Club
LOCATION:Court 4
CATEGORIES:QuickScores; Pickleball Game
TRANSP:0
DALARM:20260305T090000;PT10M;2;AmyS/CarynL/GwenB/PamA vs. LoriG/RachelL/BrendaA/AggieS
END:VEVENT
BEGIN:VEVENT
DTSTART:20260305T120000
DTEND:20260305T124000
SUMMARY:AmyS/CarynL/GwenB/PamA vs. JoR/KellyP/NylaB/StaceyP
DESCRIPTION:LSL PUPC Ladies 40+ Squads League - Late Winter - Paddle Up Pickleball Club
LOCATION:Court 2
CATEGORIES:QuickScores; Pickleball Game
TRANSP:0
DALARM:20260305T100000;PT10M;2;AmyS/CarynL/GwenB/PamA vs. JoR/KellyP/NylaB/StaceyP
END:VEVENT
BEGIN:VEVENT
DTSTART:20260312T110000
DTEND:20260312T114000
SUMMARY:AmyS/CarynL/GwenB/PamA vs. LauraS/LisaL/DebbieK/LauraS
DESCRIPTION:LSL PUPC Ladies 40+ Squads League - Late Winter - Paddle Up Pickleball Club
LOCATION:Court 4
CATEGORIES:QuickScores; Pickleball Game
TRANSP:0
DALARM:20260312T090000;PT10M;2;AmyS/CarynL/GwenB/PamA vs. LauraS/LisaL/DebbieK/LauraS
END:VEVENT
BEGIN:VEVENT
DTSTART:20260312T120000
DTEND:20260312T124000
SUMMARY:AmyS/CarynL/GwenB/PamA vs. JennD/WhitneyD/DianeM/NancyP
DESCRIPTION:LSL PUPC Ladies 40+ Squads League - Late Winter - Paddle Up Pickleball Club
LOCATION:Court 2
CATEGORIES:QuickScores; Pickleball Game
TRANSP:0
DALARM:20260312T100000;PT10M;2;AmyS/CarynL/GwenB/PamA vs. JennD/WhitneyD/DianeM/NancyP
END:VEVENT
BEGIN:VEVENT
DTSTART:20260319T110000
DTEND:20260319T114000
SUMMARY:RekhaB/BettyB/ChrisM/MaggieU vs. AmyS/CarynL/GwenB/PamA
DESCRIPTION:LSL PUPC Ladies 40+ Squads League - Late Winter - Paddle Up Pickleball Club
LOCATION:Court 2
CATEGORIES:QuickScores; Pickleball Game
TRANSP:0
DALARM:20260319T090000;PT10M;2;RekhaB/BettyB/ChrisM/MaggieU vs. AmyS/CarynL/GwenB/PamA
END:VEVENT
BEGIN:VEVENT
DTSTART:20260319T120000
DTEND:20260319T124000
SUMMARY:JoR/KellyP/NylaB/StaceyP vs. AmyS/CarynL/GwenB/PamA
DESCRIPTION:LSL PUPC Ladies 40+ Squads League - Late Winter - Paddle Up Pickleball Club
LOCATION:Court 1
CATEGORIES:QuickScores; Pickleball Game
TRANSP:0
DALARM:20260319T100000;PT10M;2;JoR/KellyP/NylaB/StaceyP vs. AmyS/CarynL/GwenB/PamA
END:VEVENT
BEGIN:VEVENT
DTSTART:20260326T115000
DTEND:20260326T122000
SUMMARY:[1] AmyS/CarynL/GwenB/PamA vs. [5] LauraS/LisaL/DebbieK/LauraS
DESCRIPTION:LSL PUPC Ladies 40+ Squads League - Late Winter - Paddle Up Pickleball Club
LOCATION:Court 1
CATEGORIES:QuickScores; Pickleball Game
TRANSP:0
DALARM:20260326T095000;PT10M;2;[1] AmyS/CarynL/GwenB/PamA vs. [5] LauraS/LisaL/DebbieK/LauraS
END:VEVENT
BEGIN:VEVENT
DTSTART:20260326T124000
DTEND:20260326T131000
SUMMARY:[1] AmyS/CarynL/GwenB/PamA vs. [2] RekhaB/BettyB/ChrisM/MaggieU
DESCRIPTION:LSL PUPC Ladies 40+ Squads League - Late Winter - Paddle Up Pickleball Club
LOCATION:Court 2
CATEGORIES:QuickScores; Pickleball Game
TRANSP:0
DALARM:20260326T104000;PT10M;2;[1] AmyS/CarynL/GwenB/PamA vs. [2] RekhaB/BettyB/ChrisM/MaggieU
END:VEVENT
END:VCALENDAR
