BEGIN:VCALENDAR
VERSION:1.0
BEGIN:VEVENT
DTSTART:20260131T174000
DTEND:20260131T180000
SUMMARY:ColbyRinehart/EduardoGomez vs. IanReed/PatrickDowd
DESCRIPTION:2026 Paddle Up Lou Fusz Winter Classic - Championship Division - 1/31 (5:30pm Start) - Paddle Up Pickleball Club
LOCATION:Court 1
CATEGORIES:QuickScores; Pickleball Game
TRANSP:0
DALARM:20260131T154000;PT10M;2;ColbyRinehart/EduardoGomez vs. IanReed/PatrickDowd
END:VEVENT
BEGIN:VEVENT
DTSTART:20260131T180000
DTEND:20260131T182000
SUMMARY:TobiOla/AniketSharma vs. IanReed/PatrickDowd
DESCRIPTION:2026 Paddle Up Lou Fusz Winter Classic - Championship Division - 1/31 (5:30pm Start) - Paddle Up Pickleball Club
LOCATION:Court 4
CATEGORIES:QuickScores; Pickleball Game
TRANSP:0
DALARM:20260131T160000;PT10M;2;TobiOla/AniketSharma vs. IanReed/PatrickDowd
END:VEVENT
BEGIN:VEVENT
DTSTART:20260131T182000
DTEND:20260131T184000
SUMMARY:IanReed/PatrickDowd vs. KevinReque/RickyHasan
DESCRIPTION:2026 Paddle Up Lou Fusz Winter Classic - Championship Division - 1/31 (5:30pm Start) - Paddle Up Pickleball Club
LOCATION:Court 6
CATEGORIES:QuickScores; Pickleball Game
TRANSP:0
DALARM:20260131T162000;PT10M;2;IanReed/PatrickDowd vs. KevinReque/RickyHasan
END:VEVENT
END:VCALENDAR
