BEGIN:VCALENDAR
VERSION:1.0
BEGIN:VEVENT
DTSTART:20260131T174000
DTEND:20260131T180000
SUMMARY:NickRangel/BlakeHuskey vs. TobiOla/AniketSharma
DESCRIPTION:2026 Paddle Up Lou Fusz Winter Classic - Championship Division - 1/31 (5:30pm Start) - Paddle Up Pickleball Club
LOCATION:Court 7
CATEGORIES:QuickScores; Pickleball Game
TRANSP:0
DALARM:20260131T154000;PT10M;2;NickRangel/BlakeHuskey vs. TobiOla/AniketSharma
END:VEVENT
BEGIN:VEVENT
DTSTART:20260131T180000
DTEND:20260131T182000
SUMMARY:AndrewLee/BryceGamache vs. NickRangel/BlakeHuskey
DESCRIPTION:2026 Paddle Up Lou Fusz Winter Classic - Championship Division - 1/31 (5:30pm Start) - Paddle Up Pickleball Club
LOCATION:Court 2
CATEGORIES:QuickScores; Pickleball Game
TRANSP:0
DALARM:20260131T160000;PT10M;2;AndrewLee/BryceGamache vs. NickRangel/BlakeHuskey
END:VEVENT
BEGIN:VEVENT
DTSTART:20260131T184000
DTEND:20260131T190000
SUMMARY:NickBorger/JohnPaden vs. NickRangel/BlakeHuskey
DESCRIPTION:2026 Paddle Up Lou Fusz Winter Classic - Championship Division - 1/31 (5:30pm Start) - Paddle Up Pickleball Club
LOCATION:Court 4
CATEGORIES:QuickScores; Pickleball Game
TRANSP:0
DALARM:20260131T164000;PT10M;2;NickBorger/JohnPaden vs. NickRangel/BlakeHuskey
END:VEVENT
END:VCALENDAR
