BEGIN:VCALENDAR
VERSION:1.0
BEGIN:VEVENT
DTSTART:20260131T174000
DTEND:20260131T180000
SUMMARY:AndrewLee/BryceGamache vs. KrisKlinkerman/CalebFall
DESCRIPTION:2026 Paddle Up Lou Fusz Winter Classic - Championship Division - 1/31 (5:30pm Start) - Paddle Up Pickleball Club
LOCATION:Court 8
CATEGORIES:QuickScores; Pickleball Game
TRANSP:0
DALARM:20260131T154000;PT10M;2;AndrewLee/BryceGamache vs. KrisKlinkerman/CalebFall
END:VEVENT
BEGIN:VEVENT
DTSTART:20260131T180000
DTEND:20260131T182000
SUMMARY:AndrewLee/BryceGamache vs. NickRangel/BlakeHuskey
DESCRIPTION:2026 Paddle Up Lou Fusz Winter Classic - Championship Division - 1/31 (5:30pm Start) - Paddle Up Pickleball Club
LOCATION:Court 2
CATEGORIES:QuickScores; Pickleball Game
TRANSP:0
DALARM:20260131T160000;PT10M;2;AndrewLee/BryceGamache vs. NickRangel/BlakeHuskey
END:VEVENT
BEGIN:VEVENT
DTSTART:20260131T182000
DTEND:20260131T184000
SUMMARY:BrooksToth/JoshKind vs. AndrewLee/BryceGamache
DESCRIPTION:2026 Paddle Up Lou Fusz Winter Classic - Championship Division - 1/31 (5:30pm Start) - Paddle Up Pickleball Club
LOCATION:Court 7
CATEGORIES:QuickScores; Pickleball Game
TRANSP:0
DALARM:20260131T162000;PT10M;2;BrooksToth/JoshKind vs. AndrewLee/BryceGamache
END:VEVENT
END:VCALENDAR
