BEGIN:VCALENDAR
VERSION:1.0
BEGIN:VEVENT
DTSTART:20260131T174000
DTEND:20260131T180000
SUMMARY:MichelaRangel/AdelineFlach vs. CarissaRoller/ValentinaEmiliani
DESCRIPTION:2026 Paddle Up Lou Fusz Winter Classic - Championship Division - 1/31 (5:30pm Start) - Paddle Up Pickleball Club
LOCATION:Court 5
CATEGORIES:QuickScores; Pickleball Game
TRANSP:0
DALARM:20260131T154000;PT10M;2;MichelaRangel/AdelineFlach vs. CarissaRoller/ValentinaEmiliani
END:VEVENT
BEGIN:VEVENT
DTSTART:20260131T180000
DTEND:20260131T182000
SUMMARY:ShelbyNamen/DaniRoberts vs. CarissaRoller/ValentinaEmiliani
DESCRIPTION:2026 Paddle Up Lou Fusz Winter Classic - Championship Division - 1/31 (5:30pm Start) - Paddle Up Pickleball Club
LOCATION:Court 5
CATEGORIES:QuickScores; Pickleball Game
TRANSP:0
DALARM:20260131T160000;PT10M;2;ShelbyNamen/DaniRoberts vs. CarissaRoller/ValentinaEmiliani
END:VEVENT
BEGIN:VEVENT
DTSTART:20260131T184000
DTEND:20260131T190000
SUMMARY:CarissaRoller/ValentinaEmiliani vs. PaigeReque/KrissyDickey
DESCRIPTION:2026 Paddle Up Lou Fusz Winter Classic - Championship Division - 1/31 (5:30pm Start) - Paddle Up Pickleball Club
LOCATION:Court 9
CATEGORIES:QuickScores; Pickleball Game
TRANSP:0
DALARM:20260131T164000;PT10M;2;CarissaRoller/ValentinaEmiliani vs. PaigeReque/KrissyDickey
END:VEVENT
BEGIN:VEVENT
DTSTART:20260131T190000
DTEND:20260131T192000
SUMMARY:CarissaRoller/ValentinaEmiliani vs. JillClark/MonetFilteau
DESCRIPTION:2026 Paddle Up Lou Fusz Winter Classic - Championship Division - 1/31 (5:30pm Start) - Paddle Up Pickleball Club
LOCATION:Court 4
CATEGORIES:QuickScores; Pickleball Game
TRANSP:0
DALARM:20260131T170000;PT10M;2;CarissaRoller/ValentinaEmiliani vs. JillClark/MonetFilteau
END:VEVENT
END:VCALENDAR
