BEGIN:VCALENDAR
VERSION:1.0
BEGIN:VEVENT
DTSTART:20260131T174000
DTEND:20260131T180000
SUMMARY:NickBorger/JohnPaden vs. MitchellStille/DanTang
DESCRIPTION:2026 Paddle Up Lou Fusz Winter Classic - Championship Division - 1/31 (5:30pm Start) - Paddle Up Pickleball Club
LOCATION:Court 9
CATEGORIES:QuickScores; Pickleball Game
TRANSP:0
DALARM:20260131T154000;PT10M;2;NickBorger/JohnPaden vs. MitchellStille/DanTang
END:VEVENT
BEGIN:VEVENT
DTSTART:20260131T182000
DTEND:20260131T184000
SUMMARY:MitchellStille/DanTang vs. TobiOla/AniketSharma
DESCRIPTION:2026 Paddle Up Lou Fusz Winter Classic - Championship Division - 1/31 (5:30pm Start) - Paddle Up Pickleball Club
LOCATION:Court 8
CATEGORIES:QuickScores; Pickleball Game
TRANSP:0
DALARM:20260131T162000;PT10M;2;MitchellStille/DanTang vs. TobiOla/AniketSharma
END:VEVENT
BEGIN:VEVENT
DTSTART:20260131T184000
DTEND:20260131T190000
SUMMARY:MitchellStille/DanTang vs. ColbyRinehart/EduardoGomez
DESCRIPTION:2026 Paddle Up Lou Fusz Winter Classic - Championship Division - 1/31 (5:30pm Start) - Paddle Up Pickleball Club
LOCATION:Court 1
CATEGORIES:QuickScores; Pickleball Game
TRANSP:0
DALARM:20260131T164000;PT10M;2;MitchellStille/DanTang vs. ColbyRinehart/EduardoGomez
END:VEVENT
END:VCALENDAR
